BEGIN:VCALENDAR
VERSION:2.0
PRODID:-//Beaverlodge Art and Culture Centre - ECPv6.15.20//NONSGML v1.0//EN
CALSCALE:GREGORIAN
METHOD:PUBLISH
X-ORIGINAL-URL:http://beaverlodgegallery.com
X-WR-CALDESC:Events for Beaverlodge Art and Culture Centre
REFRESH-INTERVAL;VALUE=DURATION:PT1H
X-Robots-Tag:noindex
X-PUBLISHED-TTL:PT1H
BEGIN:VTIMEZONE
TZID:America/Edmonton
BEGIN:DAYLIGHT
TZOFFSETFROM:-0700
TZOFFSETTO:-0600
TZNAME:MDT
DTSTART:20180311T090000
END:DAYLIGHT
BEGIN:STANDARD
TZOFFSETFROM:-0600
TZOFFSETTO:-0700
TZNAME:MST
DTSTART:20181104T080000
END:STANDARD
BEGIN:DAYLIGHT
TZOFFSETFROM:-0700
TZOFFSETTO:-0600
TZNAME:MDT
DTSTART:20190310T090000
END:DAYLIGHT
BEGIN:STANDARD
TZOFFSETFROM:-0600
TZOFFSETTO:-0700
TZNAME:MST
DTSTART:20191103T080000
END:STANDARD
BEGIN:DAYLIGHT
TZOFFSETFROM:-0700
TZOFFSETTO:-0600
TZNAME:MDT
DTSTART:20200308T090000
END:DAYLIGHT
BEGIN:STANDARD
TZOFFSETFROM:-0600
TZOFFSETTO:-0700
TZNAME:MST
DTSTART:20201101T080000
END:STANDARD
BEGIN:DAYLIGHT
TZOFFSETFROM:-0700
TZOFFSETTO:-0600
TZNAME:MDT
DTSTART:20210314T090000
END:DAYLIGHT
BEGIN:STANDARD
TZOFFSETFROM:-0600
TZOFFSETTO:-0700
TZNAME:MST
DTSTART:20211107T080000
END:STANDARD
BEGIN:DAYLIGHT
TZOFFSETFROM:-0700
TZOFFSETTO:-0600
TZNAME:MDT
DTSTART:20220313T090000
END:DAYLIGHT
BEGIN:STANDARD
TZOFFSETFROM:-0600
TZOFFSETTO:-0700
TZNAME:MST
DTSTART:20221106T080000
END:STANDARD
BEGIN:DAYLIGHT
TZOFFSETFROM:-0700
TZOFFSETTO:-0600
TZNAME:MDT
DTSTART:20230312T090000
END:DAYLIGHT
BEGIN:STANDARD
TZOFFSETFROM:-0600
TZOFFSETTO:-0700
TZNAME:MST
DTSTART:20231105T080000
END:STANDARD
BEGIN:DAYLIGHT
TZOFFSETFROM:-0700
TZOFFSETTO:-0600
TZNAME:MDT
DTSTART:20240310T090000
END:DAYLIGHT
BEGIN:STANDARD
TZOFFSETFROM:-0600
TZOFFSETTO:-0700
TZNAME:MST
DTSTART:20241103T080000
END:STANDARD
BEGIN:DAYLIGHT
TZOFFSETFROM:-0700
TZOFFSETTO:-0600
TZNAME:MDT
DTSTART:20250309T090000
END:DAYLIGHT
BEGIN:STANDARD
TZOFFSETFROM:-0600
TZOFFSETTO:-0700
TZNAME:MST
DTSTART:20251102T080000
END:STANDARD
END:VTIMEZONE
BEGIN:VEVENT
DTSTART;TZID=America/Edmonton:20240428T130000
DTEND;TZID=America/Edmonton:20240523T160000
DTSTAMP:20260423T071820
CREATED:20240201T205256Z
LAST-MODIFIED:20240201T205256Z
UID:5101-1714309200-1716480000@beaverlodgegallery.com
SUMMARY:Beaverlodge Elementary School Art Exhibit
DESCRIPTION:Join us down the hallways of our historical building and enjoy the works of art from some of our youngest artists yet!
URL:http://beaverlodgegallery.com/event/beaverlodge-elementary-school-art-exhibit/
LOCATION:Art and Culture Centre\, 512 – 5th Avenue Box 569\, Beaverlodge\, Ab\, T0H 0C0\, Canada
CATEGORIES:Mini Gallery
END:VEVENT
BEGIN:VEVENT
DTSTART;TZID=America/Edmonton:20240428T130000
DTEND;TZID=America/Edmonton:20240523T160000
DTSTAMP:20260423T071820
CREATED:20240201T205101Z
LAST-MODIFIED:20240201T205101Z
UID:5099-1714309200-1716480000@beaverlodgegallery.com
SUMMARY:St. Mary School Art Student Exhibit
DESCRIPTION:Beaverlodge’s St. Mary School Art Students will take over the Mini Gallery with their works of art
URL:http://beaverlodgegallery.com/event/st-mary-school-art-student-exhibit/
LOCATION:Art and Culture Centre\, 512 – 5th Avenue Box 569\, Beaverlodge\, Ab\, T0H 0C0\, Canada
CATEGORIES:Mini Gallery
END:VEVENT
BEGIN:VEVENT
DTSTART;TZID=America/Edmonton:20240225T130000
DTEND;TZID=America/Edmonton:20240321T160000
DTSTAMP:20260423T071820
CREATED:20240201T204502Z
LAST-MODIFIED:20240201T204502Z
UID:5093-1708866000-1711036800@beaverlodgegallery.com
SUMMARY:Watercolour Student Exhibit
DESCRIPTION:Watercolour Artist and Instructor\, Mimi Zhang-Mackie and her students will be displaying work from some of the the watercolour classes that she has facilitated over the last year or so.  It is the perfect exhibit for our theme this year – “Art is for Everyone”
URL:http://beaverlodgegallery.com/event/watercolour-student-exhibit/
LOCATION:Art and Culture Centre\, 512 – 5th Avenue Box 569\, Beaverlodge\, Ab\, T0H 0C0\, Canada
CATEGORIES:Mini Gallery
END:VEVENT
BEGIN:VEVENT
DTSTART;TZID=America/Edmonton:20231126T130000
DTEND;TZID=America/Edmonton:20231221T160000
DTSTAMP:20260423T071820
CREATED:20230830T172113Z
LAST-MODIFIED:20231005T183819Z
UID:5002-1701003600-1703174400@beaverlodgegallery.com
SUMMARY:BACS Christmas Gift Shop
DESCRIPTION:Are you looking for locally made\, fine art and craft ornaments\, stocking stuffers\, teacher\, co-worker or Secret Santa gifts? \nHave kids who want to purchase their own gifts for family? \nThe BACS Christmas Gift Shop is the perfect place to start!  Our staff and volunteers will help everyone with picking out and discreetly packaging those precious items. \nIf you would like to participate as an Artist/Fine Craft Maker\, please complete this form and submit prior to November 15\, 2023. \nBACS_2023_12_Xmas_Gift_Shop_Participation_Form.docx (1) \n 
URL:http://beaverlodgegallery.com/event/bacs-christmas-gift-shop/
LOCATION:Art and Culture Centre\, 512 – 5th Avenue Box 569\, Beaverlodge\, Ab\, T0H 0C0\, Canada
CATEGORIES:Mini Gallery
END:VEVENT
BEGIN:VEVENT
DTSTART;TZID=America/Edmonton:20231029T130000
DTEND;TZID=America/Edmonton:20231123T160000
DTSTAMP:20260423T071820
CREATED:20230830T171847Z
LAST-MODIFIED:20230830T171847Z
UID:4998-1698584400-1700755200@beaverlodgegallery.com
SUMMARY:Molly Bates Photography Exhibit & Sale
DESCRIPTION:
URL:http://beaverlodgegallery.com/event/molly-bates-photography-exhibit-sale/
LOCATION:Art and Culture Centre\, 512 – 5th Avenue Box 569\, Beaverlodge\, Ab\, T0H 0C0\, Canada
CATEGORIES:Mini Gallery
END:VEVENT
BEGIN:VEVENT
DTSTART;TZID=America/Edmonton:20230924T130000
DTEND;TZID=America/Edmonton:20231026T170000
DTSTAMP:20260423T071820
CREATED:20230830T171616Z
LAST-MODIFIED:20230830T171616Z
UID:4993-1695560400-1698339600@beaverlodgegallery.com
SUMMARY:Marilyn Grubb Digital Fine Art Photo Exhibit
DESCRIPTION:
URL:http://beaverlodgegallery.com/event/marilyn-grubb-digital-fine-art-photo-exhibit/
LOCATION:Art and Culture Centre\, 512 – 5th Avenue Box 569\, Beaverlodge\, Ab\, T0H 0C0\, Canada
CATEGORIES:Mini Gallery
END:VEVENT
BEGIN:VEVENT
DTSTART;TZID=America/Edmonton:20230827T130000
DTEND;TZID=America/Edmonton:20230921T170000
DTSTAMP:20260423T071820
CREATED:20230823T184243Z
LAST-MODIFIED:20230823T184243Z
UID:4959-1693141200-1695315600@beaverlodgegallery.com
SUMMARY:David McGregor Exhibit "Intimate Certainties"
DESCRIPTION:
URL:http://beaverlodgegallery.com/event/david-mcgregor-exhibit-intimate-certainties/
LOCATION:Art and Culture Centre\, 512 – 5th Avenue Box 569\, Beaverlodge\, Ab\, T0H 0C0\, Canada
CATEGORIES:Mini Gallery
END:VEVENT
BEGIN:VEVENT
DTSTART;TZID=America/Edmonton:20230528T140000
DTEND;TZID=America/Edmonton:20230622T170000
DTSTAMP:20260423T071820
CREATED:20230528T183711Z
LAST-MODIFIED:20230528T183711Z
UID:4936-1685282400-1687453200@beaverlodgegallery.com
SUMMARY:"Nature in My Frame" by David Kay
DESCRIPTION:
URL:http://beaverlodgegallery.com/event/nature-in-my-frame-by-david-kay/
LOCATION:Art and Culture Centre\, 512 – 5th Avenue Box 569\, Beaverlodge\, Ab\, T0H 0C0\, Canada
CATEGORIES:Mini Gallery
END:VEVENT
BEGIN:VEVENT
DTSTART;VALUE=DATE:20221127
DTEND;VALUE=DATE:20221223
DTSTAMP:20260423T071820
CREATED:20211213T190124Z
LAST-MODIFIED:20211213T190124Z
UID:4596-1669507200-1671753599@beaverlodgegallery.com
SUMMARY:BACS Christmas Gift Sale
DESCRIPTION:
URL:http://beaverlodgegallery.com/event/bacs-christmas-gift-sale/
LOCATION:Ab
CATEGORIES:Mini Gallery
END:VEVENT
BEGIN:VEVENT
DTSTART;TZID=America/Edmonton:20220925T140000
DTEND;TZID=America/Edmonton:20221027T160000
DTSTAMP:20260423T071820
CREATED:20220916T201756Z
LAST-MODIFIED:20220916T201851Z
UID:4861-1664114400-1666886400@beaverlodgegallery.com
SUMMARY:Vicki Hotte - Way Down in the Fall
DESCRIPTION:“Inspiration comes from nature & rural life\,\nalways flowing\, shifting & re-surfacing\,\nwoven with threads of faith & humour.”\nVicki Hotte\nVicki Hotte Painting in her Studio\nBiography\nI’m a visual artist working out of Beaverlodge\, Alberta\, an area with\nboth beautiful agricultural landscapes and vast wilderness. I use acrylic\npaint\, various drawing media\, new & found materials to create 2 & 3D\nimages.\nI received a Fine Arts Diploma from Grande Prairie Regional College\,\nand a Bachelor of Fine Arts degree (with Honours)\, from the University of\nVictoria\, in 1990.\nI have lived on a cattle farm most of my life\, so naturally\, that is a\nstrong influence on my artwork.\nHeritage Tree\nDown in the Valley\n5 Cows Resting
URL:http://beaverlodgegallery.com/event/vicki-hotte-way-down-in-the-fall-2/
LOCATION:Ab
CATEGORIES:Mini Gallery
END:VEVENT
BEGIN:VEVENT
DTSTART;VALUE=DATE:20220728
DTEND;VALUE=DATE:20220825
DTSTAMP:20260423T071820
CREATED:20211213T171158Z
LAST-MODIFIED:20211213T190600Z
UID:4569-1658966400-1661385599@beaverlodgegallery.com
SUMMARY:Art Gallery of Grande Prairie - Travelling Exhibit
DESCRIPTION: In Good Company
URL:http://beaverlodgegallery.com/event/art-gallery-of-grandeprairie-travelling-exhibit/
LOCATION:Ab
CATEGORIES:Main Gallery,Mini Gallery
END:VEVENT
BEGIN:VEVENT
DTSTART;VALUE=DATE:20220724
DTEND;VALUE=DATE:20220826
DTSTAMP:20260423T071820
CREATED:20220721T184155Z
LAST-MODIFIED:20220726T030856Z
UID:4770-1658620800-1661471999@beaverlodgegallery.com
SUMMARY:Jesse Boily
DESCRIPTION:Grande Prairie area photojournalist Jesse Boily will display an assortment of photographs from the region at the Beaverlodge Art & Cultural Centre beginning July 24. \nThe exhibition captures the news stories from the City of Grande Prairie\, County of Grande Prairie\, Sexsmith\, Hythe\, Beaverlodge\, and Wembley. \nJesse Boily: One Year Back explores Jesse’s first year moving back to the Peace region as he documented the area through a photojournalistic lens. \n  \nA self portrait of Jesse Boily
URL:http://beaverlodgegallery.com/event/jesse-boily/
LOCATION:Ab
CATEGORIES:Mini Gallery
END:VEVENT
BEGIN:VEVENT
DTSTART;VALUE=DATE:20220626
DTEND;VALUE=DATE:20220722
DTSTAMP:20260423T071820
CREATED:20211213T185702Z
LAST-MODIFIED:20211213T185702Z
UID:4593-1656201600-1658447999@beaverlodgegallery.com
SUMMARY:Maria Sieben
DESCRIPTION:Paper and Mixed media painting
URL:http://beaverlodgegallery.com/event/maria-sieben/
LOCATION:Ab
CATEGORIES:Mini Gallery
ATTACH;FMTTYPE=image/jpeg:http://beaverlodgegallery.com/wp-content/uploads/2021/12/Sieben_Maria_Cropped.jpg
END:VEVENT
BEGIN:VEVENT
DTSTART;VALUE=DATE:20220424
DTEND;VALUE=DATE:20220527
DTSTAMP:20260423T071820
CREATED:20211213T185513Z
LAST-MODIFIED:20211213T185513Z
UID:4591-1650758400-1653609599@beaverlodgegallery.com
SUMMARY:St Mary's School
DESCRIPTION:Annual Art Student Exhibition
URL:http://beaverlodgegallery.com/event/st-marys-school/
LOCATION:Ab
CATEGORIES:Mini Gallery
END:VEVENT
BEGIN:VEVENT
DTSTART;VALUE=DATE:20220227
DTEND;VALUE=DATE:20220325
DTSTAMP:20260423T071820
CREATED:20211213T183427Z
LAST-MODIFIED:20211213T183427Z
UID:4579-1645920000-1648166399@beaverlodgegallery.com
SUMMARY:Marilyn Grubb
DESCRIPTION:Creative Digital Photography Art
URL:http://beaverlodgegallery.com/event/marilyn-grubb/
LOCATION:Ab
CATEGORIES:Mini Gallery
ATTACH;FMTTYPE=image/jpeg:http://beaverlodgegallery.com/wp-content/uploads/2021/12/Grubb_Marilyn_Resized.jpg
END:VEVENT
BEGIN:VEVENT
DTSTART;VALUE=DATE:20211128
DTEND;VALUE=DATE:20220119
DTSTAMP:20260423T071820
CREATED:20210725T172346Z
LAST-MODIFIED:20211213T190245Z
UID:4539-1638057600-1642550399@beaverlodgegallery.com
SUMMARY:Christmas Gift Show
DESCRIPTION:BACS annual Christmas gift sale
URL:http://beaverlodgegallery.com/event/christmas-gift-show/
LOCATION:Ab
CATEGORIES:Mini Gallery
END:VEVENT
BEGIN:VEVENT
DTSTART;VALUE=DATE:20201129
DTEND;VALUE=DATE:20201220
DTSTAMP:20260423T071820
CREATED:20200209T184811Z
LAST-MODIFIED:20200829T152533Z
UID:2944-1606608000-1608422399@beaverlodgegallery.com
SUMMARY:BACS Christmas Gift Gallery
DESCRIPTION:Annual show and sale of Christmas gifts.
URL:http://beaverlodgegallery.com/event/bacs-christmas-gift-gallery-3/
LOCATION:Ab
CATEGORIES:Mini Gallery
END:VEVENT
BEGIN:VEVENT
DTSTART;VALUE=DATE:20200531
DTEND;VALUE=DATE:20200626
DTSTAMP:20260423T071820
CREATED:20200209T170334Z
LAST-MODIFIED:20200209T170334Z
UID:2911-1590883200-1593129599@beaverlodgegallery.com
SUMMARY:4-H Photography Club
DESCRIPTION:Show and sale of Photographs
URL:http://beaverlodgegallery.com/event/4-h-photography-club-2/
LOCATION:Ab
CATEGORIES:Mini Gallery
END:VEVENT
BEGIN:VEVENT
DTSTART;VALUE=DATE:20200426
DTEND;VALUE=DATE:20200529
DTSTAMP:20260423T071820
CREATED:20200209T165958Z
LAST-MODIFIED:20200209T165958Z
UID:2906-1587859200-1590710399@beaverlodgegallery.com
SUMMARY:Elke Kieswetter
DESCRIPTION:Acrylic and Watercolour show and sale
URL:http://beaverlodgegallery.com/event/elke-kieswetter/
LOCATION:Ab
CATEGORIES:Mini Gallery
END:VEVENT
BEGIN:VEVENT
DTSTART;VALUE=DATE:20200329
DTEND;VALUE=DATE:20200424
DTSTAMP:20260423T071820
CREATED:20200209T165642Z
LAST-MODIFIED:20200209T165642Z
UID:2901-1585440000-1587686399@beaverlodgegallery.com
SUMMARY:27th Annual Quilt Show
DESCRIPTION:
URL:http://beaverlodgegallery.com/event/27th-annual-quilt-show/
LOCATION:Ab
CATEGORIES:Main & Mini Gallery,Main Gallery,Mini Gallery
END:VEVENT
BEGIN:VEVENT
DTSTART;TZID=America/Edmonton:20200301T140000
DTEND;TZID=America/Edmonton:20200301T163000
DTSTAMP:20260423T071820
CREATED:20200209T191512Z
LAST-MODIFIED:20200209T191757Z
UID:2951-1583071200-1583080200@beaverlodgegallery.com
SUMMARY:Gallery Exhibition Opening
DESCRIPTION:Beaverlodge Art Society
URL:http://beaverlodgegallery.com/event/gallery-opening/
LOCATION:Art and Culture Centre\, 512 – 5th Avenue Box 569\, Beaverlodge\, Ab\, T0H 0C0\, Canada
CATEGORIES:Main Gallery,Mini Gallery
END:VEVENT
BEGIN:VEVENT
DTSTART;VALUE=DATE:20200301
DTEND;VALUE=DATE:20200327
DTSTAMP:20260423T071820
CREATED:20200209T165544Z
LAST-MODIFIED:20200209T165544Z
UID:2899-1583020800-1585267199@beaverlodgegallery.com
SUMMARY:Josh Bourget
DESCRIPTION:Skies – Photography show and sale
URL:http://beaverlodgegallery.com/event/josh-bourget/
LOCATION:Ab
CATEGORIES:Mini Gallery
END:VEVENT
BEGIN:VEVENT
DTSTART;VALUE=DATE:20200202
DTEND;VALUE=DATE:20200228
DTSTAMP:20260423T071820
CREATED:20200209T165306Z
LAST-MODIFIED:20200209T173125Z
UID:2893-1580601600-1582847999@beaverlodgegallery.com
SUMMARY:Leah Penner
DESCRIPTION:Show and Sale of Acrylic paintings
URL:http://beaverlodgegallery.com/event/leah-penner/
LOCATION:Ab
CATEGORIES:Mini Gallery
ATTACH;FMTTYPE=image/jpeg:http://beaverlodgegallery.com/wp-content/uploads/2020/02/84854180_10157935079392692_113819283338821632_n.jpg
END:VEVENT
BEGIN:VEVENT
DTSTART;VALUE=DATE:20200105
DTEND;VALUE=DATE:20200131
DTSTAMP:20260423T071820
CREATED:20200209T172543Z
LAST-MODIFIED:20200209T173026Z
UID:2921-1578182400-1580428799@beaverlodgegallery.com
SUMMARY:6th Annual "Re-homing"
DESCRIPTION:Show and sale of previously loved art works
URL:http://beaverlodgegallery.com/event/6th-annual-re-homing/
LOCATION:Ab
CATEGORIES:Mini Gallery
END:VEVENT
BEGIN:VEVENT
DTSTART;VALUE=DATE:20191124
DTEND;VALUE=DATE:20191220
DTSTAMP:20260423T071820
CREATED:20181106T221155Z
LAST-MODIFIED:20181106T221155Z
UID:1062-1574553600-1576799999@beaverlodgegallery.com
SUMMARY:BACS Christmas Gift Gallery  Sale
DESCRIPTION:Annual Christmas Gift  Sale
URL:http://beaverlodgegallery.com/event/bacs-christmas-gift-gallery-%e2%80%a8sale/
LOCATION:Ab
CATEGORIES:Mini Gallery
END:VEVENT
BEGIN:VEVENT
DTSTART;VALUE=DATE:20191027
DTEND;VALUE=DATE:20191122
DTSTAMP:20260423T071820
CREATED:20181106T221036Z
LAST-MODIFIED:20190212T175135Z
UID:1060-1572134400-1574380799@beaverlodgegallery.com
SUMMARY:Shelley Enfield 
DESCRIPTION:Wood Carvings Show & Sale \n  \nsee bio: Shelly Enfield
URL:http://beaverlodgegallery.com/event/shelley-enfield%e2%80%a8/
LOCATION:Ab
CATEGORIES:Mini Gallery
END:VEVENT
BEGIN:VEVENT
DTSTART;VALUE=DATE:20190929
DTEND;VALUE=DATE:20191025
DTSTAMP:20260423T071820
CREATED:20190116T223327Z
LAST-MODIFIED:20190501T160640Z
UID:1196-1569715200-1571961599@beaverlodgegallery.com
SUMMARY:Euphemia McNaught Retrospect
DESCRIPTION:Tribute Show
URL:http://beaverlodgegallery.com/event/euphemia-mcnaught-retrospect/
LOCATION:Ab
CATEGORIES:Main & Mini Gallery,Main Gallery,Mini Gallery
END:VEVENT
BEGIN:VEVENT
DTSTART;VALUE=DATE:20190825
DTEND;VALUE=DATE:20190927
DTSTAMP:20260423T071820
CREATED:20181106T220940Z
LAST-MODIFIED:20190501T160743Z
UID:1058-1566691200-1569542399@beaverlodgegallery.com
SUMMARY:Don Nelson\, Ron Pettitt 
DESCRIPTION:Working & Decorative Decoys  Show & Sale
URL:http://beaverlodgegallery.com/event/don-nelson-ron-pettitt%e2%80%a8/
LOCATION:Ab
CATEGORIES:Mini Gallery
END:VEVENT
BEGIN:VEVENT
DTSTART;VALUE=DATE:20190728
DTEND;VALUE=DATE:20190823
DTSTAMP:20260423T071820
CREATED:20181106T220852Z
LAST-MODIFIED:20181106T220852Z
UID:1056-1564272000-1566518399@beaverlodgegallery.com
SUMMARY:Sherry Petryshyn 
DESCRIPTION:Sculpture\, Acrylics\, Pottery  Show & Sale
URL:http://beaverlodgegallery.com/event/sherry-petryshyn%e2%80%a8/
LOCATION:Ab
CATEGORIES:Mini Gallery
END:VEVENT
BEGIN:VEVENT
DTSTART;VALUE=DATE:20190623
DTEND;VALUE=DATE:20190726
DTSTAMP:20260423T071820
CREATED:20181106T220809Z
LAST-MODIFIED:20181106T220809Z
UID:1054-1561248000-1564099199@beaverlodgegallery.com
SUMMARY:Yvonne Dickson
DESCRIPTION:Watercolour Show & Sale
URL:http://beaverlodgegallery.com/event/yvonne-dickson/
LOCATION:Ab
CATEGORIES:Mini Gallery
END:VEVENT
END:VCALENDAR