BEGIN:VCALENDAR
VERSION:2.0
PRODID:-//Beaverlodge Art and Culture Centre - ECPv6.15.20//NONSGML v1.0//EN
CALSCALE:GREGORIAN
METHOD:PUBLISH
X-ORIGINAL-URL:http://beaverlodgegallery.com
X-WR-CALDESC:Events for Beaverlodge Art and Culture Centre
REFRESH-INTERVAL;VALUE=DURATION:PT1H
X-Robots-Tag:noindex
X-PUBLISHED-TTL:PT1H
BEGIN:VTIMEZONE
TZID:America/Edmonton
BEGIN:DAYLIGHT
TZOFFSETFROM:-0700
TZOFFSETTO:-0600
TZNAME:MDT
DTSTART:20240310T090000
END:DAYLIGHT
BEGIN:STANDARD
TZOFFSETFROM:-0600
TZOFFSETTO:-0700
TZNAME:MST
DTSTART:20241103T080000
END:STANDARD
BEGIN:DAYLIGHT
TZOFFSETFROM:-0700
TZOFFSETTO:-0600
TZNAME:MDT
DTSTART:20250309T090000
END:DAYLIGHT
BEGIN:STANDARD
TZOFFSETFROM:-0600
TZOFFSETTO:-0700
TZNAME:MST
DTSTART:20251102T080000
END:STANDARD
BEGIN:DAYLIGHT
TZOFFSETFROM:-0700
TZOFFSETTO:-0600
TZNAME:MDT
DTSTART:20260308T090000
END:DAYLIGHT
BEGIN:STANDARD
TZOFFSETFROM:-0600
TZOFFSETTO:-0700
TZNAME:MST
DTSTART:20261101T080000
END:STANDARD
BEGIN:DAYLIGHT
TZOFFSETFROM:-0700
TZOFFSETTO:-0600
TZNAME:MDT
DTSTART:20270314T090000
END:DAYLIGHT
BEGIN:STANDARD
TZOFFSETFROM:-0600
TZOFFSETTO:-0700
TZNAME:MST
DTSTART:20271107T080000
END:STANDARD
END:VTIMEZONE
BEGIN:VEVENT
DTSTART;TZID=America/Edmonton:20250928T130000
DTEND;TZID=America/Edmonton:20251023T170000
DTSTAMP:20260423T173257
CREATED:20250502T170441Z
LAST-MODIFIED:20250502T170441Z
UID:5357-1759064400-1761238800@beaverlodgegallery.com
SUMMARY:Emily Lozeron & Lisa Ramer Exhibit & Sale
DESCRIPTION:
URL:http://beaverlodgegallery.com/event/emily-lozeron-lisa-ramer-exhibit-sale/
LOCATION:Art and Culture Centre\, 512 – 5th Avenue Box 569\, Beaverlodge\, Ab\, T0H 0C0\, Canada
CATEGORIES:Main Gallery
END:VEVENT
BEGIN:VEVENT
DTSTART;TZID=America/Edmonton:20250928T130000
DTEND;TZID=America/Edmonton:20251023T170000
DTSTAMP:20260423T173257
CREATED:20250502T170553Z
LAST-MODIFIED:20250502T170553Z
UID:5359-1759064400-1761238800@beaverlodgegallery.com
SUMMARY:Christina Good Art Exhibit & Sale
DESCRIPTION:
URL:http://beaverlodgegallery.com/event/christina-good-art-exhibit-sale/
LOCATION:Art and Culture Centre\, 512 – 5th Avenue Box 569\, Beaverlodge\, Ab\, T0H 0C0\, Canada
CATEGORIES:Mini Gallery
END:VEVENT
BEGIN:VEVENT
DTSTART;TZID=America/Edmonton:20251026T130000
DTEND;TZID=America/Edmonton:20251127T170000
DTSTAMP:20260423T173257
CREATED:20250502T175804Z
LAST-MODIFIED:20250502T175804Z
UID:5361-1761483600-1764262800@beaverlodgegallery.com
SUMMARY:Alicia Doerksen Art Exhibit & Sale
DESCRIPTION:
URL:http://beaverlodgegallery.com/event/alicia-doerksen-art-exhibit-sale/
LOCATION:Art and Culture Centre\, 512 – 5th Avenue Box 569\, Beaverlodge\, Ab\, T0H 0C0\, Canada
CATEGORIES:Main Gallery
END:VEVENT
BEGIN:VEVENT
DTSTART;TZID=America/Edmonton:20251026T130000
DTEND;TZID=America/Edmonton:20251127T170000
DTSTAMP:20260423T173257
CREATED:20250502T175855Z
LAST-MODIFIED:20250502T175855Z
UID:5363-1761483600-1764262800@beaverlodgegallery.com
SUMMARY:Chris Deheus Art Exhibit & Sale
DESCRIPTION:
URL:http://beaverlodgegallery.com/event/chris-deheus-art-exhibit-sale/
LOCATION:Art and Culture Centre\, 512 – 5th Avenue Box 569\, Beaverlodge\, Ab\, T0H 0C0\, Canada
CATEGORIES:Mini Gallery
END:VEVENT
BEGIN:VEVENT
DTSTART;TZID=America/Edmonton:20251130T130000
DTEND;TZID=America/Edmonton:20251224T170000
DTSTAMP:20260423T173257
CREATED:20250502T175948Z
LAST-MODIFIED:20250502T175948Z
UID:5365-1764507600-1766595600@beaverlodgegallery.com
SUMMARY:Print Artists North Exhibit & Sale
DESCRIPTION:
URL:http://beaverlodgegallery.com/event/print-artists-north-exhibit-sale-2/
LOCATION:Art and Culture Centre\, 512 – 5th Avenue Box 569\, Beaverlodge\, Ab\, T0H 0C0\, Canada
CATEGORIES:Main Gallery
END:VEVENT
BEGIN:VEVENT
DTSTART;TZID=America/Edmonton:20251130T130000
DTEND;TZID=America/Edmonton:20251224T170000
DTSTAMP:20260423T173257
CREATED:20250502T180032Z
LAST-MODIFIED:20250502T180032Z
UID:5367-1764507600-1766595600@beaverlodgegallery.com
SUMMARY:BACS Christmas Gift Shop
DESCRIPTION:
URL:http://beaverlodgegallery.com/event/bacs-christmas-gift-shop-2/
LOCATION:Art and Culture Centre\, 512 – 5th Avenue Box 569\, Beaverlodge\, Ab\, T0H 0C0\, Canada
CATEGORIES:Mini Gallery
END:VEVENT
BEGIN:VEVENT
DTSTART;TZID=America/Edmonton:20260223T080000
DTEND;TZID=America/Edmonton:20260326T170000
DTSTAMP:20260423T173257
CREATED:20260305T202320Z
LAST-MODIFIED:20260305T202320Z
UID:5385-1771833600-1774544400@beaverlodgegallery.com
SUMMARY:34th Annual Beaverlodge Art Club Miniature Exhibit & Sale
DESCRIPTION:
URL:http://beaverlodgegallery.com/event/34th-annual-beaverlodge-art-club-miniature-exhibit-sale/
LOCATION:Art and Culture Centre\, 512 – 5th Avenue Box 569\, Beaverlodge\, Ab\, T0H 0C0\, Canada
CATEGORIES:Main Gallery
END:VEVENT
BEGIN:VEVENT
DTSTART;TZID=America/Edmonton:20260329T130000
DTEND;TZID=America/Edmonton:20260422T160000
DTSTAMP:20260423T173257
CREATED:20260305T202557Z
LAST-MODIFIED:20260305T202557Z
UID:5387-1774789200-1776873600@beaverlodgegallery.com
SUMMARY:33rd Annual Quilt Exhibit & Sale
DESCRIPTION:
URL:http://beaverlodgegallery.com/event/33rd-annual-quilt-exhibit-sale/
LOCATION:Art and Culture Centre\, 512 – 5th Avenue Box 569\, Beaverlodge\, Ab\, T0H 0C0\, Canada
CATEGORIES:Main & Mini Gallery
END:VEVENT
BEGIN:VEVENT
DTSTART;TZID=America/Edmonton:20260426T130000
DTEND;TZID=America/Edmonton:20260528T160000
DTSTAMP:20260423T173257
CREATED:20260305T202803Z
LAST-MODIFIED:20260305T202803Z
UID:5389-1777208400-1779984000@beaverlodgegallery.com
SUMMARY:Student Art Exhibits (BRHS\, HRS & BES)
DESCRIPTION:Beaverlodge Regional High School art students will be in the Main Gallery \nHythe Jr High art students will be in the Mini Gallery \nBeaverlodge Elementary students will be in the Hallway
URL:http://beaverlodgegallery.com/event/student-art-exhibits-brhs-hrs-bes/
LOCATION:Art and Culture Centre\, 512 – 5th Avenue Box 569\, Beaverlodge\, Ab\, T0H 0C0\, Canada
CATEGORIES:Main & Mini Gallery
END:VEVENT
BEGIN:VEVENT
DTSTART;TZID=America/Edmonton:20260531T130000
DTEND;TZID=America/Edmonton:20260625T170000
DTSTAMP:20260423T173257
CREATED:20260305T202908Z
LAST-MODIFIED:20260305T202908Z
UID:5391-1780232400-1782406800@beaverlodgegallery.com
SUMMARY:Indigenous Art Exhibits
DESCRIPTION:
URL:http://beaverlodgegallery.com/event/indigenous-art-exhibits/
LOCATION:Art and Culture Centre\, 512 – 5th Avenue Box 569\, Beaverlodge\, Ab\, T0H 0C0\, Canada
CATEGORIES:Main & Mini Gallery
END:VEVENT
BEGIN:VEVENT
DTSTART;TZID=America/Edmonton:20260628T130000
DTEND;TZID=America/Edmonton:20260723T170000
DTSTAMP:20260423T173257
CREATED:20260305T203023Z
LAST-MODIFIED:20260305T203023Z
UID:5393-1782651600-1784826000@beaverlodgegallery.com
SUMMARY:John Yon Art Exhibit & Sale
DESCRIPTION:
URL:http://beaverlodgegallery.com/event/john-yon-art-exhibit-sale/
LOCATION:Art and Culture Centre\, 512 – 5th Avenue Box 569\, Beaverlodge\, Ab\, T0H 0C0\, Canada
CATEGORIES:Main Gallery
END:VEVENT
BEGIN:VEVENT
DTSTART;TZID=America/Edmonton:20260628T130000
DTEND;TZID=America/Edmonton:20260723T170000
DTSTAMP:20260423T173257
CREATED:20260305T203137Z
LAST-MODIFIED:20260305T203137Z
UID:5395-1782651600-1784826000@beaverlodgegallery.com
SUMMARY:Beryl & Bob Elliot Art Collection Sale
DESCRIPTION:
URL:http://beaverlodgegallery.com/event/beryl-bob-elliot-art-collection-sale/
LOCATION:Art and Culture Centre\, 512 – 5th Avenue Box 569\, Beaverlodge\, Ab\, T0H 0C0\, Canada
CATEGORIES:Mini Gallery
END:VEVENT
END:VCALENDAR