BEGIN:VCALENDAR
VERSION:2.0
PRODID:-//Beaverlodge Art and Culture Centre - ECPv6.15.20//NONSGML v1.0//EN
CALSCALE:GREGORIAN
METHOD:PUBLISH
X-WR-CALNAME:Beaverlodge Art and Culture Centre
X-ORIGINAL-URL:http://beaverlodgegallery.com
X-WR-CALDESC:Events for Beaverlodge Art and Culture Centre
REFRESH-INTERVAL;VALUE=DURATION:PT1H
X-Robots-Tag:noindex
X-PUBLISHED-TTL:PT1H
BEGIN:VTIMEZONE
TZID:America/Edmonton
BEGIN:DAYLIGHT
TZOFFSETFROM:-0700
TZOFFSETTO:-0600
TZNAME:MDT
DTSTART:20160313T090000
END:DAYLIGHT
BEGIN:STANDARD
TZOFFSETFROM:-0600
TZOFFSETTO:-0700
TZNAME:MST
DTSTART:20161106T080000
END:STANDARD
BEGIN:DAYLIGHT
TZOFFSETFROM:-0700
TZOFFSETTO:-0600
TZNAME:MDT
DTSTART:20170312T090000
END:DAYLIGHT
BEGIN:STANDARD
TZOFFSETFROM:-0600
TZOFFSETTO:-0700
TZNAME:MST
DTSTART:20171105T080000
END:STANDARD
BEGIN:DAYLIGHT
TZOFFSETFROM:-0700
TZOFFSETTO:-0600
TZNAME:MDT
DTSTART:20180311T090000
END:DAYLIGHT
BEGIN:STANDARD
TZOFFSETFROM:-0600
TZOFFSETTO:-0700
TZNAME:MST
DTSTART:20181104T080000
END:STANDARD
BEGIN:DAYLIGHT
TZOFFSETFROM:-0700
TZOFFSETTO:-0600
TZNAME:MDT
DTSTART:20190310T090000
END:DAYLIGHT
BEGIN:STANDARD
TZOFFSETFROM:-0600
TZOFFSETTO:-0700
TZNAME:MST
DTSTART:20191103T080000
END:STANDARD
END:VTIMEZONE
BEGIN:VTIMEZONE
TZID:America/Toronto
BEGIN:DAYLIGHT
TZOFFSETFROM:-0500
TZOFFSETTO:-0400
TZNAME:EDT
DTSTART:20160313T070000
END:DAYLIGHT
BEGIN:STANDARD
TZOFFSETFROM:-0400
TZOFFSETTO:-0500
TZNAME:EST
DTSTART:20161106T060000
END:STANDARD
BEGIN:DAYLIGHT
TZOFFSETFROM:-0500
TZOFFSETTO:-0400
TZNAME:EDT
DTSTART:20170312T070000
END:DAYLIGHT
BEGIN:STANDARD
TZOFFSETFROM:-0400
TZOFFSETTO:-0500
TZNAME:EST
DTSTART:20171105T060000
END:STANDARD
BEGIN:DAYLIGHT
TZOFFSETFROM:-0500
TZOFFSETTO:-0400
TZNAME:EDT
DTSTART:20180311T070000
END:DAYLIGHT
BEGIN:STANDARD
TZOFFSETFROM:-0400
TZOFFSETTO:-0500
TZNAME:EST
DTSTART:20181104T060000
END:STANDARD
END:VTIMEZONE
BEGIN:VEVENT
DTSTART;VALUE=DATE:20180729
DTEND;VALUE=DATE:20180824
DTSTAMP:20260425T094144
CREATED:20171212T210039Z
LAST-MODIFIED:20180713T211629Z
UID:894-1532822400-1535068799@beaverlodgegallery.com
SUMMARY:Sandy Troudt
DESCRIPTION:Multi Media Painting Show & Sale
URL:http://beaverlodgegallery.com/event/sandy-troudt/
CATEGORIES:Main Gallery
ATTACH;FMTTYPE=image/jpeg:http://beaverlodgegallery.com/wp-content/uploads/2017/12/BACS_2018_08_Troudt_After_the_Burn_Resized.jpg
END:VEVENT
BEGIN:VEVENT
DTSTART;VALUE=DATE:20180624
DTEND;VALUE=DATE:20180727
DTSTAMP:20260425T094144
CREATED:20171212T205910Z
LAST-MODIFIED:20180623T215058Z
UID:892-1529798400-1532649599@beaverlodgegallery.com
SUMMARY:Sharon Dul & Tracy Deets
DESCRIPTION:Wild Animal “Selfie” Show & Sale
URL:http://beaverlodgegallery.com/event/sharon-dul-tracy-deets/
CATEGORIES:Mini Gallery
END:VEVENT
BEGIN:VEVENT
DTSTART;VALUE=DATE:20180624
DTEND;VALUE=DATE:20180727
DTSTAMP:20260425T094144
CREATED:20171212T205749Z
LAST-MODIFIED:20180623T214956Z
UID:890-1529798400-1532649599@beaverlodgegallery.com
SUMMARY:Holly Crichton
DESCRIPTION:Show & Sale
URL:http://beaverlodgegallery.com/event/holly-crichton/
CATEGORIES:Main Gallery
ATTACH;FMTTYPE=image/jpeg:http://beaverlodgegallery.com/wp-content/uploads/2018/06/1529789685738-e1529790302346.jpg
END:VEVENT
BEGIN:VEVENT
DTSTART;VALUE=DATE:20180527
DTEND;VALUE=DATE:20180622
DTSTAMP:20260425T094144
CREATED:20171212T205644Z
LAST-MODIFIED:20180623T220913Z
UID:888-1527379200-1529625599@beaverlodgegallery.com
SUMMARY:4-H Photography Club
DESCRIPTION:Photography Show & Sale
URL:http://beaverlodgegallery.com/event/4-h-photography-club/
CATEGORIES:Mini Gallery
ATTACH;FMTTYPE=image/jpeg:http://beaverlodgegallery.com/wp-content/uploads/2017/12/34794720_10156391316532692_258933918894391296_n.jpg
END:VEVENT
BEGIN:VEVENT
DTSTART;VALUE=DATE:20180527
DTEND;VALUE=DATE:20180622
DTSTAMP:20260425T094144
CREATED:20171212T205535Z
LAST-MODIFIED:20180623T220850Z
UID:886-1527379200-1529625599@beaverlodgegallery.com
SUMMARY:Grande Prairie Photography Club
DESCRIPTION:Fine Art Photography Show & Sale
URL:http://beaverlodgegallery.com/event/grande-prairie-photography-club/
CATEGORIES:Main Gallery
ATTACH;FMTTYPE=image/jpeg:http://beaverlodgegallery.com/wp-content/uploads/2017/12/34838342_10156391313592692_8565314911746392064_n.jpg
END:VEVENT
BEGIN:VEVENT
DTSTART;VALUE=DATE:20180429
DTEND;VALUE=DATE:20180525
DTSTAMP:20260425T094144
CREATED:20171212T205305Z
LAST-MODIFIED:20171212T205305Z
UID:884-1524960000-1527206399@beaverlodgegallery.com
SUMMARY:Diane Denison
DESCRIPTION:Acrylic & Oil:  Scenics & Birds
URL:http://beaverlodgegallery.com/event/diane-denison/
CATEGORIES:Mini Gallery
END:VEVENT
BEGIN:VEVENT
DTSTART;VALUE=DATE:20180429
DTEND;VALUE=DATE:20180524
DTSTAMP:20260425T094144
CREATED:20171212T205147Z
LAST-MODIFIED:20171212T205147Z
UID:882-1524960000-1527119999@beaverlodgegallery.com
SUMMARY:Beaverlodge Regional High School Students' Show
DESCRIPTION:Show
URL:http://beaverlodgegallery.com/event/beaverlodge-regional-high-school-students-show/
CATEGORIES:Main Gallery
END:VEVENT
BEGIN:VEVENT
DTSTART;VALUE=DATE:20180325
DTEND;VALUE=DATE:20180427
DTSTAMP:20260425T094144
CREATED:20171212T205030Z
LAST-MODIFIED:20171212T205030Z
UID:880-1521936000-1524787199@beaverlodgegallery.com
SUMMARY:25th Annual Quilt Show
DESCRIPTION:Show & Sale
URL:http://beaverlodgegallery.com/event/25th-annual-quilt-show/
CATEGORIES:Main & Mini Gallery
END:VEVENT
BEGIN:VEVENT
DTSTART;VALUE=DATE:20180225
DTEND;VALUE=DATE:20180323
DTSTAMP:20260425T094144
CREATED:20171212T204802Z
LAST-MODIFIED:20171212T204802Z
UID:876-1519516800-1521763199@beaverlodgegallery.com
SUMMARY:Beaverlodge Art Society
DESCRIPTION:26th Annual Miniature Show & Sale
URL:http://beaverlodgegallery.com/event/beaverlodge-art-society-2/
CATEGORIES:Main Gallery
END:VEVENT
BEGIN:VEVENT
DTSTART;VALUE=DATE:20180225
DTEND;VALUE=DATE:20180323
DTSTAMP:20260425T094144
CREATED:20171212T204640Z
LAST-MODIFIED:20180131T172535Z
UID:874-1519516800-1521763199@beaverlodgegallery.com
SUMMARY:Various Artisans
DESCRIPTION:The 1st Annual Jewelry Show & Sale
URL:http://beaverlodgegallery.com/event/various-artisans/
CATEGORIES:Mini Gallery
END:VEVENT
BEGIN:VEVENT
DTSTART;VALUE=DATE:20180204
DTEND;VALUE=DATE:20180223
DTSTAMP:20260425T094144
CREATED:20171212T204516Z
LAST-MODIFIED:20171212T204516Z
UID:872-1517702400-1519343999@beaverlodgegallery.com
SUMMARY:Grande Prairie Regional College Art Students
DESCRIPTION:Show
URL:http://beaverlodgegallery.com/event/grande-prairie-regional-college-art-students/
CATEGORIES:Main Gallery
END:VEVENT
BEGIN:VEVENT
DTSTART;VALUE=DATE:20180204
DTEND;VALUE=DATE:20180223
DTSTAMP:20260425T094144
CREATED:20170204T204926Z
LAST-MODIFIED:20180131T172358Z
UID:878-1517702400-1519343999@beaverlodgegallery.com
SUMMARY:Tanya Dunn
DESCRIPTION:Graphite Drawings Show & Sale
URL:http://beaverlodgegallery.com/event/tanya-dunn/
CATEGORIES:Mini Gallery
END:VEVENT
BEGIN:VEVENT
DTSTART;VALUE=DATE:20180107
DTEND;VALUE=DATE:20180202
DTSTAMP:20260425T094144
CREATED:20171212T193736Z
LAST-MODIFIED:20171212T193736Z
UID:870-1515283200-1517529599@beaverlodgegallery.com
SUMMARY:BACS 4TH Annual Re-Homing Art Sale
DESCRIPTION:Art Sale
URL:http://beaverlodgegallery.com/event/bacs-4th-annual-re-homing-art-sale/
CATEGORIES:Mini Gallery
END:VEVENT
BEGIN:VEVENT
DTSTART;VALUE=DATE:20180107
DTEND;VALUE=DATE:20180202
DTSTAMP:20260425T094144
CREATED:20171212T184514Z
LAST-MODIFIED:20171212T184514Z
UID:845-1515283200-1517529599@beaverlodgegallery.com
SUMMARY:Emily Lozeron
DESCRIPTION:Art Show and Sale
URL:http://beaverlodgegallery.com/event/emily-lozeron/
CATEGORIES:Main Gallery
END:VEVENT
BEGIN:VEVENT
DTSTART;VALUE=DATE:20171126
DTEND;VALUE=DATE:20171222
DTSTAMP:20260425T094144
CREATED:20170422T004804Z
LAST-MODIFIED:20171213T022339Z
UID:642-1511654400-1513900799@beaverlodgegallery.com
SUMMARY:Toni Schuler - Watercolour
DESCRIPTION:
URL:http://beaverlodgegallery.com/event/toni-schuler-watercolour/
CATEGORIES:Main Gallery
ATTACH;FMTTYPE=image/jpeg:http://beaverlodgegallery.com/wp-content/uploads/2017/04/Evening-at-Jarvis-Lakes.jpg
END:VEVENT
BEGIN:VEVENT
DTSTART;VALUE=DATE:20171126
DTEND;VALUE=DATE:20171222
DTSTAMP:20260425T094144
CREATED:20170422T004804Z
LAST-MODIFIED:20170422T040507Z
UID:643-1511654400-1513900799@beaverlodgegallery.com
SUMMARY:BACS Christmas Gift Gallery
DESCRIPTION:
URL:http://beaverlodgegallery.com/event/bacs-christmas-gift-gallery/
CATEGORIES:Mini Gallery
END:VEVENT
BEGIN:VEVENT
DTSTART;VALUE=DATE:20171029
DTEND;VALUE=DATE:20171124
DTSTAMP:20260425T094144
CREATED:20170422T004804Z
LAST-MODIFIED:20170911T135741Z
UID:641-1509235200-1511481599@beaverlodgegallery.com
SUMMARY:Vicki Hotte & Karen McFalane\, Acrylic Paintings
DESCRIPTION:
URL:http://beaverlodgegallery.com/event/vicki-hotte-karen-mcfalane/
CATEGORIES:Main & Mini Gallery
END:VEVENT
BEGIN:VEVENT
DTSTART;VALUE=DATE:20171001
DTEND;VALUE=DATE:20171027
DTSTAMP:20260425T094144
CREATED:20170422T004804Z
LAST-MODIFIED:20170422T040612Z
UID:639-1506816000-1509062399@beaverlodgegallery.com
SUMMARY:Caily Oldershaw - Acrylic Paintings
DESCRIPTION:
URL:http://beaverlodgegallery.com/event/caily-oldershaw-acrylic-paintings/
CATEGORIES:Main Gallery
END:VEVENT
BEGIN:VEVENT
DTSTART;VALUE=DATE:20171001
DTEND;VALUE=DATE:20171027
DTSTAMP:20260425T094144
CREATED:20170422T004804Z
LAST-MODIFIED:20170422T040636Z
UID:640-1506816000-1509062399@beaverlodgegallery.com
SUMMARY:Dori Braun - Pottery
DESCRIPTION:
URL:http://beaverlodgegallery.com/event/dori-braun-pottery/
CATEGORIES:Mini Gallery
END:VEVENT
BEGIN:VEVENT
DTSTART;VALUE=DATE:20170827
DTEND;VALUE=DATE:20170929
DTSTAMP:20260425T094144
CREATED:20170422T004802Z
LAST-MODIFIED:20170422T040716Z
UID:638-1503792000-1506643199@beaverlodgegallery.com
SUMMARY:Shanda Fuller - Paintings & Jewellry
DESCRIPTION:
URL:http://beaverlodgegallery.com/event/shanda-fuller-paintings-jewellry/
CATEGORIES:Mini Gallery
END:VEVENT
BEGIN:VEVENT
DTSTART;VALUE=DATE:20170730
DTEND;VALUE=DATE:20170825
DTSTAMP:20260425T094144
CREATED:20170422T004802Z
LAST-MODIFIED:20170422T040736Z
UID:635-1501372800-1503619199@beaverlodgegallery.com
SUMMARY:Marjorie Henn - Watercolour
DESCRIPTION:
URL:http://beaverlodgegallery.com/event/marjorie-henn-watercolour/
CATEGORIES:Main Gallery
END:VEVENT
BEGIN:VEVENT
DTSTART;VALUE=DATE:20170730
DTEND;VALUE=DATE:20170825
DTSTAMP:20260425T094144
CREATED:20170422T004802Z
LAST-MODIFIED:20170422T040815Z
UID:636-1501372800-1503619199@beaverlodgegallery.com
SUMMARY:Marie Sieben - Acrylic Paintings
DESCRIPTION:
URL:http://beaverlodgegallery.com/event/marie-sieben-acrylic-paintings/
CATEGORIES:Mini Gallery
END:VEVENT
BEGIN:VEVENT
DTSTART;VALUE=DATE:20170625
DTEND;VALUE=DATE:20170728
DTSTAMP:20260425T094144
CREATED:20170422T004802Z
LAST-MODIFIED:20170422T040836Z
UID:634-1498348800-1501199999@beaverlodgegallery.com
SUMMARY:Shirley Weiss - Acrylic Painting
DESCRIPTION:
URL:http://beaverlodgegallery.com/event/shirley-weiss-acrylic-painting/
CATEGORIES:Mini Gallery
END:VEVENT
BEGIN:VEVENT
DTSTART;VALUE=DATE:20170625
DTEND;VALUE=DATE:20170728
DTSTAMP:20260425T094144
CREATED:20170422T004800Z
LAST-MODIFIED:20170422T040859Z
UID:633-1498348800-1501199999@beaverlodgegallery.com
SUMMARY:Mary Parslow - Print Making
DESCRIPTION:
URL:http://beaverlodgegallery.com/event/mary-parslow-print-making/
CATEGORIES:Main Gallery
END:VEVENT
BEGIN:VEVENT
DTSTART;VALUE=DATE:20170528
DTEND;VALUE=DATE:20170623
DTSTAMP:20260425T094144
CREATED:20170422T004800Z
LAST-MODIFIED:20170422T040922Z
UID:631-1495929600-1498175999@beaverlodgegallery.com
SUMMARY:Mimi Zhang-Mackie - Watercolour
DESCRIPTION:
URL:http://beaverlodgegallery.com/event/mimi-zhang-mackie-watercolour/
CATEGORIES:Main Gallery
END:VEVENT
BEGIN:VEVENT
DTSTART;VALUE=DATE:20170528
DTEND;VALUE=DATE:20170623
DTSTAMP:20260425T094144
CREATED:20170422T004800Z
LAST-MODIFIED:20170525T213010Z
UID:632-1495929600-1498175999@beaverlodgegallery.com
SUMMARY:When Something New Begins: Dan Arberry's Art Students
DESCRIPTION:Dan’s students will hold their first solo show at BACS. Opening reception 2 p.m.\, Sunday\, May 28 \n 
URL:http://beaverlodgegallery.com/event/dan-arberrys-art-students/
CATEGORIES:Mini Gallery
END:VEVENT
BEGIN:VEVENT
DTSTART;VALUE=DATE:20170430
DTEND;VALUE=DATE:20170526
DTSTAMP:20260425T094144
CREATED:20170422T004800Z
LAST-MODIFIED:20170422T041022Z
UID:629-1493510400-1495756799@beaverlodgegallery.com
SUMMARY:BRHS Art Students
DESCRIPTION:
URL:http://beaverlodgegallery.com/event/brhs-art-students-2/
CATEGORIES:Main Gallery
END:VEVENT
BEGIN:VEVENT
DTSTART;VALUE=DATE:20170430
DTEND;VALUE=DATE:20170526
DTSTAMP:20260425T094144
CREATED:20170422T004800Z
LAST-MODIFIED:20170422T041051Z
UID:630-1493510400-1495756799@beaverlodgegallery.com
SUMMARY:Jennifer Wohlgemuth - Watercolour / Multi-media
DESCRIPTION:
URL:http://beaverlodgegallery.com/event/jennifer-wohlgemuth-watercolour-multi-media/
CATEGORIES:Mini Gallery
END:VEVENT
BEGIN:VEVENT
DTSTART;VALUE=DATE:20170326
DTEND;VALUE=DATE:20170428
DTSTAMP:20260425T094144
CREATED:20170422T004756Z
LAST-MODIFIED:20170422T042239Z
UID:627-1490486400-1493337599@beaverlodgegallery.com
SUMMARY:24th Annual Quilt Show
DESCRIPTION:People are coming from all over the Peace Region to see the Quilt Show and visitors from Ontario and BC have stopped in too. Lots of terrific comments. That Long Horn above is one of Lyle Sipe’s entries this year. \nAnd don’t miss Geri Blew’s incredible Fused Glass works in our Mini Gallery. You’ll say “Wow\,” as so many people already have. \nYou have until April 27th to see both shows.
URL:http://beaverlodgegallery.com/event/24th-annual-quilt-show/
CATEGORIES:Main Gallery
END:VEVENT
BEGIN:VEVENT
DTSTART;TZID=America/Edmonton:20170326T000000
DTEND;TZID=America/Edmonton:20170427T000000
DTSTAMP:20260425T094144
CREATED:20170422T004756Z
LAST-MODIFIED:20170422T004756Z
UID:628-1490486400-1493251200@beaverlodgegallery.com
SUMMARY:Geri Blew - Mixed-media / Fused Glass
DESCRIPTION:
URL:http://beaverlodgegallery.com/event/geri-blew-mixed-media-fused-glass/
CATEGORIES:Mini Gallery
END:VEVENT
END:VCALENDAR