BEGIN:VCALENDAR
VERSION:2.0
PRODID:-//Beaverlodge Art and Culture Centre - ECPv6.15.20//NONSGML v1.0//EN
CALSCALE:GREGORIAN
METHOD:PUBLISH
X-ORIGINAL-URL:http://beaverlodgegallery.com
X-WR-CALDESC:Events for Beaverlodge Art and Culture Centre
REFRESH-INTERVAL;VALUE=DURATION:PT1H
X-Robots-Tag:noindex
X-PUBLISHED-TTL:PT1H
BEGIN:VTIMEZONE
TZID:America/Edmonton
BEGIN:DAYLIGHT
TZOFFSETFROM:-0700
TZOFFSETTO:-0600
TZNAME:MDT
DTSTART:20230312T090000
END:DAYLIGHT
BEGIN:STANDARD
TZOFFSETFROM:-0600
TZOFFSETTO:-0700
TZNAME:MST
DTSTART:20231105T080000
END:STANDARD
BEGIN:DAYLIGHT
TZOFFSETFROM:-0700
TZOFFSETTO:-0600
TZNAME:MDT
DTSTART:20240310T090000
END:DAYLIGHT
BEGIN:STANDARD
TZOFFSETFROM:-0600
TZOFFSETTO:-0700
TZNAME:MST
DTSTART:20241103T080000
END:STANDARD
BEGIN:DAYLIGHT
TZOFFSETFROM:-0700
TZOFFSETTO:-0600
TZNAME:MDT
DTSTART:20250309T090000
END:DAYLIGHT
BEGIN:STANDARD
TZOFFSETFROM:-0600
TZOFFSETTO:-0700
TZNAME:MST
DTSTART:20251102T080000
END:STANDARD
BEGIN:DAYLIGHT
TZOFFSETFROM:-0700
TZOFFSETTO:-0600
TZNAME:MDT
DTSTART:20260308T090000
END:DAYLIGHT
BEGIN:STANDARD
TZOFFSETFROM:-0600
TZOFFSETTO:-0700
TZNAME:MST
DTSTART:20261101T080000
END:STANDARD
END:VTIMEZONE
BEGIN:VEVENT
DTSTART;TZID=America/Edmonton:20250525T130000
DTEND;TZID=America/Edmonton:20250625T170000
DTSTAMP:20260423T083749
CREATED:20250502T163056Z
LAST-MODIFIED:20250502T163056Z
UID:5338-1748178000-1750870800@beaverlodgegallery.com
SUMMARY:Indigenous Art Exhibit - "All of You Tell a Story"
DESCRIPTION:
URL:http://beaverlodgegallery.com/event/indigenous-art-exhibit-all-of-you-tell-a-story/
LOCATION:Art and Culture Centre\, 512 – 5th Avenue Box 569\, Beaverlodge\, Ab\, T0H 0C0\, Canada
CATEGORIES:Main Gallery
END:VEVENT
BEGIN:VEVENT
DTSTART;TZID=America/Edmonton:20250427T130000
DTEND;TZID=America/Edmonton:20250522T170000
DTSTAMP:20260423T083749
CREATED:20250116T185628Z
LAST-MODIFIED:20250116T185628Z
UID:5315-1745758800-1747933200@beaverlodgegallery.com
SUMMARY:Beaverlodge Elementary School Hallway Exhibit
DESCRIPTION:Elementary students from Beaverlodge Elementary will be showing some of their artwork in the hallway of the Art & Culture Centre. \nThe Opening will be Sunday\, April 27 at 2 pm with refreshments to follow in the tea room.
URL:http://beaverlodgegallery.com/event/beaverlodge-elementary-school-hallway-exhibit/
LOCATION:Art and Culture Centre\, 512 – 5th Avenue Box 569\, Beaverlodge\, Ab\, T0H 0C0\, Canada
CATEGORIES:Special Event
END:VEVENT
BEGIN:VEVENT
DTSTART;TZID=America/Edmonton:20250427T130000
DTEND;TZID=America/Edmonton:20250522T170000
DTSTAMP:20260423T083749
CREATED:20250116T185401Z
LAST-MODIFIED:20250116T185401Z
UID:5313-1745758800-1747933200@beaverlodgegallery.com
SUMMARY:St. Mary School Art Student Exhibit
DESCRIPTION:Beaverlodge’s St. Mary School will have student art work on display in the Mini Gallery. \nThe Opening is Sunday\, April 27 at 2 pm with refreshments to follow in the tea room.
URL:http://beaverlodgegallery.com/event/st-mary-school-art-student-exhibit-2/
LOCATION:Art and Culture Centre\, 512 – 5th Avenue Box 569\, Beaverlodge\, Ab\, T0H 0C0\, Canada
CATEGORIES:Mini Gallery
END:VEVENT
BEGIN:VEVENT
DTSTART;TZID=America/Edmonton:20250427T130000
DTEND;TZID=America/Edmonton:20250522T170000
DTSTAMP:20260423T083749
CREATED:20250116T185217Z
LAST-MODIFIED:20250116T185217Z
UID:5311-1745758800-1747933200@beaverlodgegallery.com
SUMMARY:Beaverlodge Regional High School Art Student Exhibit
DESCRIPTION:You know we love student art exhibits! \nThe BRHS Art Students will share with us\, in the Main Gallery\, what they have been working on this year so far. \nThe Opening Exhibit will be Sunday\, April 27 at 2 pm with refreshments to follow in the Tea Room.
URL:http://beaverlodgegallery.com/event/beaverlodge-regional-high-school-art-student-exhibit/
LOCATION:Art and Culture Centre\, 512 – 5th Avenue Box 569\, Beaverlodge\, Ab\, T0H 0C0\, Canada
CATEGORIES:Main Gallery
END:VEVENT
BEGIN:VEVENT
DTSTART;TZID=America/Edmonton:20250330T130000
DTEND;TZID=America/Edmonton:20250424T160000
DTSTAMP:20260423T083749
CREATED:20250116T183339Z
LAST-MODIFIED:20250116T183339Z
UID:5306-1743339600-1745510400@beaverlodgegallery.com
SUMMARY:32nd Annual Quilt Exhibit and Sale
DESCRIPTION:We are thrilled to showcase the Peace Country’s talented quilters again this year in a whole-building exhibit. \nThe Opening will take place Sunday\, March 30 at 2 pm with refreshments to follow in the tea room. \n \nTo participate in this exhibit\, please find the guidelines and forms below: \n2025 Quilt Show Participation Form – Sheet1 (1) \nQuilt Show Guidelines 2025
URL:http://beaverlodgegallery.com/event/32nd-annual-quilt-exhibit-and-sale/
LOCATION:Art and Culture Centre\, 512 – 5th Avenue Box 569\, Beaverlodge\, Ab\, T0H 0C0\, Canada
CATEGORIES:Main & Mini Gallery
END:VEVENT
BEGIN:VEVENT
DTSTART;TZID=America/Edmonton:20250223T130000
DTEND;TZID=America/Edmonton:20250327T160000
DTSTAMP:20260423T083749
CREATED:20250116T182124Z
LAST-MODIFIED:20250116T182124Z
UID:5304-1740315600-1743091200@beaverlodgegallery.com
SUMMARY:Lynette Tubman Exhibit
DESCRIPTION:Opening for Lynette’s first ever exhibit at the Art & Culture Centre will be Sunday\, February 23 at 2 pm with refreshments to follow in the tea room.
URL:http://beaverlodgegallery.com/event/lynette-tubman-exhibit/
LOCATION:Art and Culture Centre\, 512 – 5th Avenue Box 569\, Beaverlodge\, Ab\, T0H 0C0\, Canada
CATEGORIES:Mini Gallery
END:VEVENT
BEGIN:VEVENT
DTSTART;TZID=America/Edmonton:20250223T130000
DTEND;TZID=America/Edmonton:20250327T160000
DTSTAMP:20260423T083749
CREATED:20250116T181933Z
LAST-MODIFIED:20250116T181933Z
UID:5300-1740315600-1743091200@beaverlodgegallery.com
SUMMARY:33rd Annual Beaverlodge Art Club Miniature Exhibit & Sale
DESCRIPTION:Opening for the Beaverlodge Art Club’s Miniature Exhibit and Sale will be Sunday\, February 23rd at 2 pm with refreshments to follow. \n“Masters of Miniature” is their Theme. \nTo participate in this exhibit\, please find the guidelines and forms below. \nMiniature Show Form for print. Updated 11-22 (1) \nCALL TO ARTISTS 2025
URL:http://beaverlodgegallery.com/event/33rd-annual-beaverlodge-art-club-miniature-exhibit-sale/
LOCATION:Art and Culture Centre\, 512 – 5th Avenue Box 569\, Beaverlodge\, Ab\, T0H 0C0\, Canada
CATEGORIES:Main Gallery
END:VEVENT
BEGIN:VEVENT
DTSTART;TZID=America/Edmonton:20250126T130000
DTEND;TZID=America/Edmonton:20250220T160000
DTSTAMP:20260423T083749
CREATED:20250116T175516Z
LAST-MODIFIED:20250116T175516Z
UID:5294-1737896400-1740067200@beaverlodgegallery.com
SUMMARY:Northwestern Polytechnic Art Students
DESCRIPTION:Join us in the Main Gallery to celebrate the talented young artists from Northwestern Polytechnic School. \nThe Opening will be Sunday\, January 26th at 2 pm with refreshments to follow in the Tea Room.
URL:http://beaverlodgegallery.com/event/northwestern-polytechnic-art-students/
LOCATION:Art and Culture Centre\, 512 – 5th Avenue Box 569\, Beaverlodge\, Ab\, T0H 0C0\, Canada
CATEGORIES:Main Gallery
END:VEVENT
BEGIN:VEVENT
DTSTART;TZID=America/Edmonton:20250116T080000
DTEND;TZID=America/Edmonton:20250124T160000
DTSTAMP:20260423T083749
CREATED:20250116T173035Z
LAST-MODIFIED:20250116T173035Z
UID:5292-1737014400-1737734400@beaverlodgegallery.com
SUMMARY:BACS Permanent Collection Exhibit
DESCRIPTION:Take this opportunity to view a large portion of important and cherished art  kept in our Permanent Collection.  You’ll find pieces from Euphemia McNaught\, Robert Guest\, Marion Hill\, Toni Schuler and Marjorie Henn in both the Main and Mini Galleries for a limited time.
URL:http://beaverlodgegallery.com/event/bacs-permanent-collection-exhibit/
LOCATION:Art and Culture Centre\, 512 – 5th Avenue Box 569\, Beaverlodge\, Ab\, T0H 0C0\, Canada
CATEGORIES:Main & Mini Gallery
END:VEVENT
BEGIN:VEVENT
DTSTART;TZID=America/Edmonton:20250116T080000
DTEND;TZID=America/Edmonton:20250116T170000
DTSTAMP:20260423T083749
CREATED:20250116T181155Z
LAST-MODIFIED:20250116T181155Z
UID:5296-1737014400-1737046800@beaverlodgegallery.com
SUMMARY:2nd Annual BACS Silent Auction Fundraiser
DESCRIPTION:We are bringing back the Mini Gallery Silent Auction Fundraiser.  Last year you helped us raise over $2300 through your donations or bidding. \nThis year we have a variety of items such as earrings created and donated by Cindy Nychka\, a private high-tea event\, art class\, and more. \nTo bid\, you need to register with the host and bidding will begin after the Opening Ceremony at 2 pm on Sunday\, January 26\, 2025.  Bidding ends at 4 pm on February 20\, 2025. \nFor more information\, or if you wish to make a donation by Friday\, January 25th\, call Harmony at 780-354-3600 or email at bacs@telus.neet
URL:http://beaverlodgegallery.com/event/2nd-annual-bacs-silent-auction-fundraiser/
LOCATION:Ab
END:VEVENT
BEGIN:VEVENT
DTSTART;TZID=America/Edmonton:20241124T130000
DTEND;TZID=America/Edmonton:20241220T160000
DTSTAMP:20260423T083749
CREATED:20240515T195921Z
LAST-MODIFIED:20241018T152545Z
UID:5179-1732453200-1734710400@beaverlodgegallery.com
SUMMARY:BACS Christmas Gift Shop - Local Art & Fine Craft Sale
DESCRIPTION:We are currently accepting submissions from local artists and artisans for this Christmas Gift Shop in the Mini Gallery.  Please contact Harmony at 780-354-3600 or BACS@beaverlodgegallery.com
URL:http://beaverlodgegallery.com/event/bacs-christmas-gift-shop-local-art-fine-craft-sale/
LOCATION:Art and Culture Centre\, 512 – 5th Avenue Box 569\, Beaverlodge\, Ab\, T0H 0C0\, Canada
CATEGORIES:Mini Gallery
END:VEVENT
BEGIN:VEVENT
DTSTART;TZID=America/Edmonton:20241124T130000
DTEND;TZID=America/Edmonton:20241220T160000
DTSTAMP:20260423T083749
CREATED:20240515T195801Z
LAST-MODIFIED:20240515T195801Z
UID:5177-1732453200-1734710400@beaverlodgegallery.com
SUMMARY:Peace Region Federation of Canadian Artists - Exhibit & Sale
DESCRIPTION:
URL:http://beaverlodgegallery.com/event/peace-region-federation-of-canadian-artists-exhibit-sale/
LOCATION:Art and Culture Centre\, 512 – 5th Avenue Box 569\, Beaverlodge\, Ab\, T0H 0C0\, Canada
CATEGORIES:Main Gallery
END:VEVENT
BEGIN:VEVENT
DTSTART;TZID=America/Edmonton:20241027T130000
DTEND;TZID=America/Edmonton:20241121T160000
DTSTAMP:20260423T083749
CREATED:20240515T195527Z
LAST-MODIFIED:20240515T195527Z
UID:5175-1730034000-1732204800@beaverlodgegallery.com
SUMMARY:April Smith - Pottery Exhibit & Sale
DESCRIPTION:
URL:http://beaverlodgegallery.com/event/april-smith-pottery-exhibit-sale/
LOCATION:Art and Culture Centre\, 512 – 5th Avenue Box 569\, Beaverlodge\, Ab\, T0H 0C0\, Canada
CATEGORIES:Mini Gallery
END:VEVENT
BEGIN:VEVENT
DTSTART;TZID=America/Edmonton:20241027T130000
DTEND;TZID=America/Edmonton:20241121T160000
DTSTAMP:20260423T083749
CREATED:20240515T195207Z
LAST-MODIFIED:20240515T200110Z
UID:5173-1730034000-1732204800@beaverlodgegallery.com
SUMMARY:"Small Town Big Dreams" - Beaverlodge Art Club Exhibit & Sale
DESCRIPTION:
URL:http://beaverlodgegallery.com/event/small-town-big-dreams-beaverlodge-art-club-exhibit-sale/
LOCATION:Art and Culture Centre\, 512 – 5th Avenue Box 569\, Beaverlodge\, Ab\, T0H 0C0\, Canada
CATEGORIES:Main Gallery
END:VEVENT
BEGIN:VEVENT
DTSTART;TZID=America/Edmonton:20240929T130000
DTEND;TZID=America/Edmonton:20241024T160000
DTSTAMP:20260423T083749
CREATED:20240515T195009Z
LAST-MODIFIED:20240614T192241Z
UID:5171-1727614800-1729785600@beaverlodgegallery.com
SUMMARY:Donna Kaut - Exhibit & Sale
DESCRIPTION:
URL:http://beaverlodgegallery.com/event/marjorie-henn-exhibit-sale/
LOCATION:Art and Culture Centre\, 512 – 5th Avenue Box 569\, Beaverlodge\, Ab\, T0H 0C0\, Canada
CATEGORIES:Main Gallery
END:VEVENT
BEGIN:VEVENT
DTSTART;TZID=America/Edmonton:20240907T130000
DTEND;TZID=America/Edmonton:20240908T170000
DTSTAMP:20260423T083749
CREATED:20240627T202404Z
LAST-MODIFIED:20240827T192442Z
UID:5192-1725714000-1725814800@beaverlodgegallery.com
SUMMARY:Alberta Culture Days at BACS
DESCRIPTION:Join us for a fun-filled family friendly weekend to celebrate Alberta Culture Days! \nWe are working with local artists\, such as Vicki Hotte\, Michelle Forrester and Peter von Tiesenhausen\, and organizations such as the Beaverlodge Art Club\, the Beaverlodge Craft Club and the Beaverlodge Mural Foundation to bring our community two days of ART!  We will have music\, food\, and door prize draws. \nSaturday\, September 7\, 2024 – 1 pm to 5 pm \nSunday\, September 8\, 2024 – 1 pm to 5 pm \nA detailed list of activities will be posted in advance of the event. \n  \nThank you to our sponsors:\nThe Government of Alberta\nBeaverlodge Butcher Shop\nWalkers Grocery IGA\nCounty of Grande Prairie No. 1\nMVP Oilfield Services Inc.\nAce Hardware\nBeaverlodge Home Building Centre
URL:http://beaverlodgegallery.com/event/alberta-culture-days-at-bacs/
LOCATION:Art and Culture Centre\, 512 – 5th Avenue Box 569\, Beaverlodge\, Ab\, T0H 0C0\, Canada
CATEGORIES:Special Event
END:VEVENT
BEGIN:VEVENT
DTSTART;TZID=America/Edmonton:20240825T130000
DTEND;TZID=America/Edmonton:20240926T170000
DTSTAMP:20260423T083749
CREATED:20240515T193508Z
LAST-MODIFIED:20240515T193508Z
UID:5169-1724590800-1727370000@beaverlodgegallery.com
SUMMARY:Elke Kiesewetter - Exhibit & Sale
DESCRIPTION:
URL:http://beaverlodgegallery.com/event/elke-kiesewetter-exhibit-sale/
LOCATION:Art and Culture Centre\, 512 – 5th Avenue Box 569\, Beaverlodge\, Ab\, T0H 0C0\, Canada
CATEGORIES:Mini Gallery
END:VEVENT
BEGIN:VEVENT
DTSTART;TZID=America/Edmonton:20240825T130000
DTEND;TZID=America/Edmonton:20240926T170000
DTSTAMP:20260423T083749
CREATED:20240515T193259Z
LAST-MODIFIED:20240515T193259Z
UID:5166-1724590800-1727370000@beaverlodgegallery.com
SUMMARY:"Alberta's Roots & Scenic Skies" Multi-Artist Exhibit
DESCRIPTION:Alberta’s Roots & Scenic Skies Call for Entries 2024 \n 
URL:http://beaverlodgegallery.com/event/albertas-roots-scenic-skies-multi-artist-exhibit/
LOCATION:Art and Culture Centre\, 512 – 5th Avenue Box 569\, Beaverlodge\, Ab\, T0H 0C0\, Canada
CATEGORIES:Main Gallery
END:VEVENT
BEGIN:VEVENT
DTSTART;TZID=America/Edmonton:20240816T120000
DTEND;TZID=America/Edmonton:20240816T160000
DTSTAMP:20260423T083749
CREATED:20240730T181356Z
LAST-MODIFIED:20240730T181757Z
UID:5205-1723809600-1723824000@beaverlodgegallery.com
SUMMARY:BACS Youth Art Show & Sale
DESCRIPTION:Join us for our first ever Youth Art Show & Sale! \nYouth are invited to register for this event (you can find the form here) \nWe encourage everyone to come and support these young local artists!  Nurturing creativity is so important!
URL:http://beaverlodgegallery.com/event/bacs-youth-art-show-sale/
LOCATION:Art and Culture Centre\, 512 – 5th Avenue Box 569\, Beaverlodge\, Ab\, T0H 0C0\, Canada
END:VEVENT
BEGIN:VEVENT
DTSTART;TZID=America/Edmonton:20240728T130000
DTEND;TZID=America/Edmonton:20240822T170000
DTSTAMP:20260423T083749
CREATED:20240515T192909Z
LAST-MODIFIED:20240515T192909Z
UID:5164-1722171600-1724346000@beaverlodgegallery.com
SUMMARY:Darcie Bader - Exhibit & Sale
DESCRIPTION:
URL:http://beaverlodgegallery.com/event/darcie-bader-exhibit-sale/
LOCATION:Art and Culture Centre\, 512 – 5th Avenue Box 569\, Beaverlodge\, Ab\, T0H 0C0\, Canada
CATEGORIES:Mini Gallery
END:VEVENT
BEGIN:VEVENT
DTSTART;TZID=America/Edmonton:20240728T130000
DTEND;TZID=America/Edmonton:20240822T170000
DTSTAMP:20260423T083749
CREATED:20240515T192759Z
LAST-MODIFIED:20240515T192759Z
UID:5162-1722171600-1724346000@beaverlodgegallery.com
SUMMARY:Mickey Death - Exhibit & Sale
DESCRIPTION:
URL:http://beaverlodgegallery.com/event/mickey-death-exhibit-sale/
LOCATION:Art and Culture Centre\, 512 – 5th Avenue Box 569\, Beaverlodge\, Ab\, T0H 0C0\, Canada
CATEGORIES:Main Gallery
END:VEVENT
BEGIN:VEVENT
DTSTART;TZID=America/Edmonton:20240630T130000
DTEND;TZID=America/Edmonton:20240725T170000
DTSTAMP:20260423T083749
CREATED:20240514T194238Z
LAST-MODIFIED:20240514T202156Z
UID:5159-1719752400-1721926800@beaverlodgegallery.com
SUMMARY:Aleeta Kent - Art Exhibit & Sale
DESCRIPTION:
URL:http://beaverlodgegallery.com/event/aleeta-kent-art-exhibit-sale/
LOCATION:Art and Culture Centre\, 512 – 5th Avenue Box 569\, Beaverlodge\, Ab\, T0H 0C0\, Canada
CATEGORIES:Mini Gallery
END:VEVENT
BEGIN:VEVENT
DTSTART;TZID=America/Edmonton:20240630T130000
DTEND;TZID=America/Edmonton:20240725T170000
DTSTAMP:20260423T083749
CREATED:20240514T194135Z
LAST-MODIFIED:20240514T194135Z
UID:5157-1719752400-1721926800@beaverlodgegallery.com
SUMMARY:Chris Jammer - Art Exhibit & Sale
DESCRIPTION:
URL:http://beaverlodgegallery.com/event/chris-jammer-art-exhibit-sale/
LOCATION:Art and Culture Centre\, 512 – 5th Avenue Box 569\, Beaverlodge\, Ab\, T0H 0C0\, Canada
CATEGORIES:Main Gallery
END:VEVENT
BEGIN:VEVENT
DTSTART;TZID=America/Edmonton:20240526T130000
DTEND;TZID=America/Edmonton:20240626T170000
DTSTAMP:20260423T083750
CREATED:20240514T194008Z
LAST-MODIFIED:20240515T194648Z
UID:5155-1716728400-1719421200@beaverlodgegallery.com
SUMMARY:Monique Hommy's "Intro to Indigenous Art"
DESCRIPTION:
URL:http://beaverlodgegallery.com/event/monique-hommys-intro-to-indigenous-art/
LOCATION:Art and Culture Centre\, 512 – 5th Avenue Box 569\, Beaverlodge\, Ab\, T0H 0C0\, Canada
CATEGORIES:Mini Gallery
END:VEVENT
BEGIN:VEVENT
DTSTART;TZID=America/Edmonton:20240526T130000
DTEND;TZID=America/Edmonton:20240626T170000
DTSTAMP:20260423T083750
CREATED:20240514T193842Z
LAST-MODIFIED:20240515T194542Z
UID:5153-1716728400-1719421200@beaverlodgegallery.com
SUMMARY:Brenda Schenk's "Legends & Lore"
DESCRIPTION:
URL:http://beaverlodgegallery.com/event/brenda-schenks-legends-lore/
LOCATION:Art and Culture Centre\, 512 – 5th Avenue Box 569\, Beaverlodge\, Ab\, T0H 0C0\, Canada
CATEGORIES:Main Gallery
END:VEVENT
BEGIN:VEVENT
DTSTART;TZID=America/Edmonton:20240428T130000
DTEND;TZID=America/Edmonton:20240523T160000
DTSTAMP:20260423T083750
CREATED:20240201T205256Z
LAST-MODIFIED:20240201T205256Z
UID:5101-1714309200-1716480000@beaverlodgegallery.com
SUMMARY:Beaverlodge Elementary School Art Exhibit
DESCRIPTION:Join us down the hallways of our historical building and enjoy the works of art from some of our youngest artists yet!
URL:http://beaverlodgegallery.com/event/beaverlodge-elementary-school-art-exhibit/
LOCATION:Art and Culture Centre\, 512 – 5th Avenue Box 569\, Beaverlodge\, Ab\, T0H 0C0\, Canada
CATEGORIES:Mini Gallery
END:VEVENT
BEGIN:VEVENT
DTSTART;TZID=America/Edmonton:20240428T130000
DTEND;TZID=America/Edmonton:20240523T160000
DTSTAMP:20260423T083750
CREATED:20240201T205101Z
LAST-MODIFIED:20240201T205101Z
UID:5099-1714309200-1716480000@beaverlodgegallery.com
SUMMARY:St. Mary School Art Student Exhibit
DESCRIPTION:Beaverlodge’s St. Mary School Art Students will take over the Mini Gallery with their works of art
URL:http://beaverlodgegallery.com/event/st-mary-school-art-student-exhibit/
LOCATION:Art and Culture Centre\, 512 – 5th Avenue Box 569\, Beaverlodge\, Ab\, T0H 0C0\, Canada
CATEGORIES:Mini Gallery
END:VEVENT
BEGIN:VEVENT
DTSTART;TZID=America/Edmonton:20240428T130000
DTEND;TZID=America/Edmonton:20240523T160000
DTSTAMP:20260423T083750
CREATED:20240201T204925Z
LAST-MODIFIED:20240201T204925Z
UID:5097-1714309200-1716480000@beaverlodgegallery.com
SUMMARY:Beaverlodge Regional High School Art Exhibit
DESCRIPTION:The Main Gallery welcomes back the young talented artists of the Beaverlodge Regional High School Students.
URL:http://beaverlodgegallery.com/event/beaverlodge-regional-high-school-art-exhibit/
LOCATION:Art and Culture Centre\, 512 – 5th Avenue Box 569\, Beaverlodge\, Ab\, T0H 0C0\, Canada
CATEGORIES:Main Gallery
END:VEVENT
BEGIN:VEVENT
DTSTART;TZID=America/Edmonton:20240324T130000
DTEND;TZID=America/Edmonton:20240425T160000
DTSTAMP:20260423T083750
CREATED:20240201T204754Z
LAST-MODIFIED:20240228T163636Z
UID:5095-1711285200-1714060800@beaverlodgegallery.com
SUMMARY:31st Annual Quilt Show
DESCRIPTION:They’re BAAAAAAACK! \nThe Quilters will make the Beaverlodge Art & Culture Centre feel all cozy again as they display their works of art and history throughout the building.
URL:http://beaverlodgegallery.com/event/31st-annual-quilt-show/
LOCATION:Art and Culture Centre\, 512 – 5th Avenue Box 569\, Beaverlodge\, Ab\, T0H 0C0\, Canada
CATEGORIES:Main & Mini Gallery
END:VEVENT
BEGIN:VEVENT
DTSTART;TZID=America/Edmonton:20240321T123000
DTEND;TZID=America/Edmonton:20240321T140000
DTSTAMP:20260423T083750
CREATED:20240228T164139Z
LAST-MODIFIED:20240228T164139Z
UID:5121-1711024200-1711029600@beaverlodgegallery.com
SUMMARY:BACS Annual General Meeting
DESCRIPTION:Annual General Meeting \nTo purchase your 2024 membership\, contact us at 780-354-3600 or bacs@telus.net. \nYou can also fill out the application here http://beaverlodgegallery.com/membership-application/ \n 
URL:http://beaverlodgegallery.com/event/bacs-annual-general-meeting/
LOCATION:Art and Culture Centre\, 512 – 5th Avenue Box 569\, Beaverlodge\, Ab\, T0H 0C0\, Canada
END:VEVENT
END:VCALENDAR