BEGIN:VCALENDAR
VERSION:2.0
PRODID:-//Beaverlodge Art and Culture Centre - ECPv6.15.20//NONSGML v1.0//EN
CALSCALE:GREGORIAN
METHOD:PUBLISH
X-WR-CALNAME:Beaverlodge Art and Culture Centre
X-ORIGINAL-URL:http://beaverlodgegallery.com
X-WR-CALDESC:Events for Beaverlodge Art and Culture Centre
REFRESH-INTERVAL;VALUE=DURATION:PT1H
X-Robots-Tag:noindex
X-PUBLISHED-TTL:PT1H
BEGIN:VTIMEZONE
TZID:America/Edmonton
BEGIN:DAYLIGHT
TZOFFSETFROM:-0700
TZOFFSETTO:-0600
TZNAME:MDT
DTSTART:20210314T090000
END:DAYLIGHT
BEGIN:STANDARD
TZOFFSETFROM:-0600
TZOFFSETTO:-0700
TZNAME:MST
DTSTART:20211107T080000
END:STANDARD
BEGIN:DAYLIGHT
TZOFFSETFROM:-0700
TZOFFSETTO:-0600
TZNAME:MDT
DTSTART:20220313T090000
END:DAYLIGHT
BEGIN:STANDARD
TZOFFSETFROM:-0600
TZOFFSETTO:-0700
TZNAME:MST
DTSTART:20221106T080000
END:STANDARD
BEGIN:DAYLIGHT
TZOFFSETFROM:-0700
TZOFFSETTO:-0600
TZNAME:MDT
DTSTART:20230312T090000
END:DAYLIGHT
BEGIN:STANDARD
TZOFFSETFROM:-0600
TZOFFSETTO:-0700
TZNAME:MST
DTSTART:20231105T080000
END:STANDARD
BEGIN:DAYLIGHT
TZOFFSETFROM:-0700
TZOFFSETTO:-0600
TZNAME:MDT
DTSTART:20240310T090000
END:DAYLIGHT
BEGIN:STANDARD
TZOFFSETFROM:-0600
TZOFFSETTO:-0700
TZNAME:MST
DTSTART:20241103T080000
END:STANDARD
BEGIN:DAYLIGHT
TZOFFSETFROM:-0700
TZOFFSETTO:-0600
TZNAME:MDT
DTSTART:20250309T090000
END:DAYLIGHT
BEGIN:STANDARD
TZOFFSETFROM:-0600
TZOFFSETTO:-0700
TZNAME:MST
DTSTART:20251102T080000
END:STANDARD
END:VTIMEZONE
BEGIN:VEVENT
DTSTART;TZID=America/Edmonton:20240225T130000
DTEND;TZID=America/Edmonton:20240321T160000
DTSTAMP:20260423T171839
CREATED:20240201T204502Z
LAST-MODIFIED:20240201T204502Z
UID:5093-1708866000-1711036800@beaverlodgegallery.com
SUMMARY:Watercolour Student Exhibit
DESCRIPTION:Watercolour Artist and Instructor\, Mimi Zhang-Mackie and her students will be displaying work from some of the the watercolour classes that she has facilitated over the last year or so.  It is the perfect exhibit for our theme this year – “Art is for Everyone”
URL:http://beaverlodgegallery.com/event/watercolour-student-exhibit/
LOCATION:Art and Culture Centre\, 512 – 5th Avenue Box 569\, Beaverlodge\, Ab\, T0H 0C0\, Canada
CATEGORIES:Mini Gallery
END:VEVENT
BEGIN:VEVENT
DTSTART;TZID=America/Edmonton:20240225T130000
DTEND;TZID=America/Edmonton:20240321T160000
DTSTAMP:20260423T171839
CREATED:20240201T204212Z
LAST-MODIFIED:20240201T204212Z
UID:5091-1708866000-1711036800@beaverlodgegallery.com
SUMMARY:32nd Annual Mini Exhibit & Sale
DESCRIPTION:The Main Gallery will have many Mini pieces of art on display and available for sale.  Put on by the Beaverlodge Art Club as one of their fundraisers\, this is a must see Exhibit!
URL:http://beaverlodgegallery.com/event/32nd-annual-mini-exhibit-sale/
LOCATION:Art and Culture Centre\, 512 – 5th Avenue Box 569\, Beaverlodge\, Ab\, T0H 0C0\, Canada
CATEGORIES:Main Gallery
END:VEVENT
BEGIN:VEVENT
DTSTART;TZID=America/Edmonton:20240128T130000
DTEND;TZID=America/Edmonton:20240222T160000
DTSTAMP:20260423T171839
CREATED:20240118T184518Z
LAST-MODIFIED:20240118T184623Z
UID:5078-1706446800-1708617600@beaverlodgegallery.com
SUMMARY:Northwestern Polytechnic Art Student Exhibit
DESCRIPTION:“Bodies of Thought” \nA display of diverse expression\, exploring the intersection of concepts and creativity through a variety of mediums. \n  \nSponsored by the West County Animal Clinic
URL:http://beaverlodgegallery.com/event/northwestern-polytechnic-art-student-exhibit/
LOCATION:Art and Culture Centre\, 512 – 5th Avenue Box 569\, Beaverlodge\, Ab\, T0H 0C0\, Canada
CATEGORIES:Main Gallery
END:VEVENT
BEGIN:VEVENT
DTSTART;TZID=America/Edmonton:20231126T130000
DTEND;TZID=America/Edmonton:20231221T160000
DTSTAMP:20260423T171839
CREATED:20230830T172113Z
LAST-MODIFIED:20231005T183819Z
UID:5002-1701003600-1703174400@beaverlodgegallery.com
SUMMARY:BACS Christmas Gift Shop
DESCRIPTION:Are you looking for locally made\, fine art and craft ornaments\, stocking stuffers\, teacher\, co-worker or Secret Santa gifts? \nHave kids who want to purchase their own gifts for family? \nThe BACS Christmas Gift Shop is the perfect place to start!  Our staff and volunteers will help everyone with picking out and discreetly packaging those precious items. \nIf you would like to participate as an Artist/Fine Craft Maker\, please complete this form and submit prior to November 15\, 2023. \nBACS_2023_12_Xmas_Gift_Shop_Participation_Form.docx (1) \n 
URL:http://beaverlodgegallery.com/event/bacs-christmas-gift-shop/
LOCATION:Art and Culture Centre\, 512 – 5th Avenue Box 569\, Beaverlodge\, Ab\, T0H 0C0\, Canada
CATEGORIES:Mini Gallery
END:VEVENT
BEGIN:VEVENT
DTSTART;TZID=America/Edmonton:20231126T130000
DTEND;TZID=America/Edmonton:20231221T160000
DTSTAMP:20260423T171839
CREATED:20230830T172000Z
LAST-MODIFIED:20230830T172000Z
UID:5000-1701003600-1703174400@beaverlodgegallery.com
SUMMARY:Print Artists North Exhibit & Sale
DESCRIPTION:
URL:http://beaverlodgegallery.com/event/print-artists-north-exhibit-sale/
LOCATION:Art and Culture Centre\, 512 – 5th Avenue Box 569\, Beaverlodge\, Ab\, T0H 0C0\, Canada
CATEGORIES:Main Gallery
END:VEVENT
BEGIN:VEVENT
DTSTART;VALUE=DATE:20231119
DTEND;VALUE=DATE:20231120
DTSTAMP:20260423T171839
CREATED:20231110T205012Z
LAST-MODIFIED:20231110T205012Z
UID:5057-1700352000-1700438399@beaverlodgegallery.com
SUMMARY:Afternoon Tea Fundraiser
DESCRIPTION:Call or stop at the Art & Culture Centre to register for your Tea Time by November 14th. \n 
URL:http://beaverlodgegallery.com/event/afternoon-tea-fundraiser/
LOCATION:Art and Culture Centre\, 512 – 5th Avenue Box 569\, Beaverlodge\, Ab\, T0H 0C0\, Canada
END:VEVENT
BEGIN:VEVENT
DTSTART;TZID=America/Edmonton:20231029T130000
DTEND;TZID=America/Edmonton:20231123T160000
DTSTAMP:20260423T171839
CREATED:20230830T171847Z
LAST-MODIFIED:20230830T171847Z
UID:4998-1698584400-1700755200@beaverlodgegallery.com
SUMMARY:Molly Bates Photography Exhibit & Sale
DESCRIPTION:
URL:http://beaverlodgegallery.com/event/molly-bates-photography-exhibit-sale/
LOCATION:Art and Culture Centre\, 512 – 5th Avenue Box 569\, Beaverlodge\, Ab\, T0H 0C0\, Canada
CATEGORIES:Mini Gallery
END:VEVENT
BEGIN:VEVENT
DTSTART;TZID=America/Edmonton:20231029T130000
DTEND;TZID=America/Edmonton:20231123T160000
DTSTAMP:20260423T171839
CREATED:20230830T171743Z
LAST-MODIFIED:20230830T171743Z
UID:4996-1698584400-1700755200@beaverlodgegallery.com
SUMMARY:Dori Braun & Caily Oldershaw Multi-Media Exhibit & Sale
DESCRIPTION:
URL:http://beaverlodgegallery.com/event/dori-braun-caily-oldershaw-multi-media-exhibit-sale/
LOCATION:Art and Culture Centre\, 512 – 5th Avenue Box 569\, Beaverlodge\, Ab\, T0H 0C0\, Canada
CATEGORIES:Main Gallery
END:VEVENT
BEGIN:VEVENT
DTSTART;TZID=America/Edmonton:20230924T130000
DTEND;TZID=America/Edmonton:20231026T170000
DTSTAMP:20260423T171839
CREATED:20230830T171616Z
LAST-MODIFIED:20230830T171616Z
UID:4993-1695560400-1698339600@beaverlodgegallery.com
SUMMARY:Marilyn Grubb Digital Fine Art Photo Exhibit
DESCRIPTION:
URL:http://beaverlodgegallery.com/event/marilyn-grubb-digital-fine-art-photo-exhibit/
LOCATION:Art and Culture Centre\, 512 – 5th Avenue Box 569\, Beaverlodge\, Ab\, T0H 0C0\, Canada
CATEGORIES:Mini Gallery
END:VEVENT
BEGIN:VEVENT
DTSTART;TZID=America/Edmonton:20230924T130000
DTEND;TZID=America/Edmonton:20231026T170000
DTSTAMP:20260423T171839
CREATED:20230830T171439Z
LAST-MODIFIED:20230830T171439Z
UID:4989-1695560400-1698339600@beaverlodgegallery.com
SUMMARY:Digital Art Exhibition & Sale
DESCRIPTION:by Artists: Sabrina Chevallier\, Coralie Rycroft & Shae Rix
URL:http://beaverlodgegallery.com/event/digital-art-exhibition-sale/
LOCATION:Art and Culture Centre\, 512 – 5th Avenue Box 569\, Beaverlodge\, Ab\, T0H 0C0\, Canada
CATEGORIES:Main Gallery
END:VEVENT
BEGIN:VEVENT
DTSTART;TZID=America/Edmonton:20230827T130000
DTEND;TZID=America/Edmonton:20230921T170000
DTSTAMP:20260423T171839
CREATED:20230823T184243Z
LAST-MODIFIED:20230823T184243Z
UID:4959-1693141200-1695315600@beaverlodgegallery.com
SUMMARY:David McGregor Exhibit "Intimate Certainties"
DESCRIPTION:
URL:http://beaverlodgegallery.com/event/david-mcgregor-exhibit-intimate-certainties/
LOCATION:Art and Culture Centre\, 512 – 5th Avenue Box 569\, Beaverlodge\, Ab\, T0H 0C0\, Canada
CATEGORIES:Mini Gallery
END:VEVENT
BEGIN:VEVENT
DTSTART;TZID=America/Edmonton:20230827T130000
DTEND;TZID=America/Edmonton:20230921T170000
DTSTAMP:20260423T171839
CREATED:20230823T184113Z
LAST-MODIFIED:20230823T184113Z
UID:4957-1693141200-1695315600@beaverlodgegallery.com
SUMMARY:Tim Heimdal Exhibit "Along the Way"
DESCRIPTION:
URL:http://beaverlodgegallery.com/event/tim-heimdal-exhibit-along-the-way/
LOCATION:Art and Culture Centre\, 512 – 5th Avenue Box 569\, Beaverlodge\, Ab\, T0H 0C0\, Canada
CATEGORIES:Main Gallery
END:VEVENT
BEGIN:VEVENT
DTSTART;TZID=America/Edmonton:20230730T130000
DTEND;TZID=America/Edmonton:20230824T170000
DTSTAMP:20260423T171839
CREATED:20230823T183828Z
LAST-MODIFIED:20230823T183828Z
UID:4954-1690722000-1692896400@beaverlodgegallery.com
SUMMARY:Celebration of Trees
DESCRIPTION:
URL:http://beaverlodgegallery.com/event/celebration-of-trees/
LOCATION:Art and Culture Centre\, 512 – 5th Avenue Box 569\, Beaverlodge\, Ab\, T0H 0C0\, Canada
END:VEVENT
BEGIN:VEVENT
DTSTART;TZID=America/Edmonton:20230625T140000
DTEND;TZID=America/Edmonton:20230727T170000
DTSTAMP:20260423T171839
CREATED:20230528T184809Z
LAST-MODIFIED:20230528T184822Z
UID:4938-1687701600-1690477200@beaverlodgegallery.com
SUMMARY:Festival of Fibre Arts Multi-Artist Exhibit and Sale
DESCRIPTION:
URL:http://beaverlodgegallery.com/event/festival-of-fibre-arts-multi-artist-exhibit-and-sale/
LOCATION:Art and Culture Centre\, 512 – 5th Avenue Box 569\, Beaverlodge\, Ab\, T0H 0C0\, Canada
CATEGORIES:Main & Mini Gallery
END:VEVENT
BEGIN:VEVENT
DTSTART;TZID=America/Edmonton:20230528T140000
DTEND;TZID=America/Edmonton:20230622T170000
DTSTAMP:20260423T171839
CREATED:20230528T183711Z
LAST-MODIFIED:20230528T183711Z
UID:4936-1685282400-1687453200@beaverlodgegallery.com
SUMMARY:"Nature in My Frame" by David Kay
DESCRIPTION:
URL:http://beaverlodgegallery.com/event/nature-in-my-frame-by-david-kay/
LOCATION:Art and Culture Centre\, 512 – 5th Avenue Box 569\, Beaverlodge\, Ab\, T0H 0C0\, Canada
CATEGORIES:Mini Gallery
END:VEVENT
BEGIN:VEVENT
DTSTART;TZID=America/Edmonton:20230528T140000
DTEND;TZID=America/Edmonton:20230622T170000
DTSTAMP:20260423T171839
CREATED:20230528T183554Z
LAST-MODIFIED:20230528T183757Z
UID:4931-1685282400-1687453200@beaverlodgegallery.com
SUMMARY:"Peace Inspired" by Carolyn Kosabeck & Judith Brown
DESCRIPTION:
URL:http://beaverlodgegallery.com/event/peace-inspired-by-carolyn-kosabeck-judith-brown/
LOCATION:Art and Culture Centre\, 512 – 5th Avenue Box 569\, Beaverlodge\, Ab\, T0H 0C0\, Canada
CATEGORIES:Main Gallery
END:VEVENT
BEGIN:VEVENT
DTSTART;VALUE=DATE:20221127
DTEND;VALUE=DATE:20221223
DTSTAMP:20260423T171839
CREATED:20211213T190124Z
LAST-MODIFIED:20211213T190124Z
UID:4596-1669507200-1671753599@beaverlodgegallery.com
SUMMARY:BACS Christmas Gift Sale
DESCRIPTION:
URL:http://beaverlodgegallery.com/event/bacs-christmas-gift-sale/
LOCATION:Ab
CATEGORIES:Mini Gallery
END:VEVENT
BEGIN:VEVENT
DTSTART;VALUE=DATE:20221127
DTEND;VALUE=DATE:20221223
DTSTAMP:20260423T171839
CREATED:20211213T183148Z
LAST-MODIFIED:20211213T183148Z
UID:4577-1669507200-1671753599@beaverlodgegallery.com
SUMMARY:Peace Region Federation of Canadian Artists
DESCRIPTION:
URL:http://beaverlodgegallery.com/event/peace-region-federation-of-canadian-artists-2/
LOCATION:Ab
CATEGORIES:Main Gallery
END:VEVENT
BEGIN:VEVENT
DTSTART;VALUE=DATE:20221030
DTEND;VALUE=DATE:20221125
DTSTAMP:20260423T171839
CREATED:20211213T183038Z
LAST-MODIFIED:20211213T183038Z
UID:4575-1667088000-1669334399@beaverlodgegallery.com
SUMMARY:Grande Prairie Guild of Artists
DESCRIPTION:Exhibition and sale
URL:http://beaverlodgegallery.com/event/grande-prairie-guild-of-artists/
LOCATION:Ab
CATEGORIES:Main Gallery
END:VEVENT
BEGIN:VEVENT
DTSTART;TZID=America/Edmonton:20220925T140000
DTEND;TZID=America/Edmonton:20221027T160000
DTSTAMP:20260423T171839
CREATED:20220916T201756Z
LAST-MODIFIED:20220916T201851Z
UID:4861-1664114400-1666886400@beaverlodgegallery.com
SUMMARY:Vicki Hotte - Way Down in the Fall
DESCRIPTION:“Inspiration comes from nature & rural life\,\nalways flowing\, shifting & re-surfacing\,\nwoven with threads of faith & humour.”\nVicki Hotte\nVicki Hotte Painting in her Studio\nBiography\nI’m a visual artist working out of Beaverlodge\, Alberta\, an area with\nboth beautiful agricultural landscapes and vast wilderness. I use acrylic\npaint\, various drawing media\, new & found materials to create 2 & 3D\nimages.\nI received a Fine Arts Diploma from Grande Prairie Regional College\,\nand a Bachelor of Fine Arts degree (with Honours)\, from the University of\nVictoria\, in 1990.\nI have lived on a cattle farm most of my life\, so naturally\, that is a\nstrong influence on my artwork.\nHeritage Tree\nDown in the Valley\n5 Cows Resting
URL:http://beaverlodgegallery.com/event/vicki-hotte-way-down-in-the-fall-2/
LOCATION:Ab
CATEGORIES:Mini Gallery
END:VEVENT
BEGIN:VEVENT
DTSTART;VALUE=DATE:20220925
DTEND;VALUE=DATE:20221028
DTSTAMP:20260423T171839
CREATED:20211213T182934Z
LAST-MODIFIED:20220916T183602Z
UID:4573-1664064000-1666915199@beaverlodgegallery.com
SUMMARY:Peace Watercolour Society
DESCRIPTION:Painting by Judy Brown \n  \nPeace Watercolour Society \nExhibition and Sale\n  \nThe Peace Watercolour Society was formed more than 45 years ago by a group of Peace Country artists and the first group exhibit was opened in the Dawson Creek Art Gallery in the spring of 1976. \n  \nThe group’s original goal was to maintain and promote the tradition of transparent watercolour in the Peace Region and mixed media was discouraged.  This is still true of the current members although recently the group has agreed to the sparing use of inks\, watercolour pencils etc. to enhance the pure medium. All paintings are original and the Society does not accept copies. \n  \nCurrent members of the Peace Watercolour Society include Marjorie Henn from Beaverlodge\, Judith A Brown from Spirit River\, Carolyn Kosabeck from Spirit River\, Angela Fehr from Dawson Creek\, Mimi Zhang Mackie from Goodfare and Julius Miraflor from Grande Prairie. The Society with participants from both sides of the Alberta – British Columbia boundary are held together by a common goal to express impressions of our environment in watercolour paintings.   The Peace Country\, with its diverse population and wonderful landscape\, offers an incredible variety of subject matter for these artists: each captures this beauty in his or her own style. \n 
URL:http://beaverlodgegallery.com/event/peace-watercolour-society-2/
LOCATION:Ab
CATEGORIES:Main Gallery
END:VEVENT
BEGIN:VEVENT
DTSTART;TZID=America/Edmonton:20220915T000000
DTEND;TZID=America/Edmonton:20220915T000000
DTSTAMP:20260423T171839
CREATED:20220915T184931Z
LAST-MODIFIED:20220915T185056Z
UID:4848-1663200000-1663200000@beaverlodgegallery.com
SUMMARY:Vicki Hotte - Way Down in the Fall
DESCRIPTION:Vicky is a talented and prolific artist whom has deep roots not only in the community\, but also in creating art and in the Beaverlodge Art and Cultural Center. She has spent countless hours working very hard as a dedicated volunteer for BACS. She has also spent many hours painting not only in her studio but as an artist for the Mural Foundation. We are proud to have a show with her work on display in our facility. \nDown in the Valley \nHeritage Tree \n5 Cows Resting \n“Inspiration comes from nature & rural life\,\nalways flowing\, shifting & re-surfacing\,\nwoven with threads of faith & humour.”\nVicki Hotte
URL:http://beaverlodgegallery.com/event/vicki-hotte-way-down-in-the-fall/
LOCATION:Ab
END:VEVENT
BEGIN:VEVENT
DTSTART;VALUE=DATE:20220828
DTEND;VALUE=DATE:20220923
DTSTAMP:20260423T171839
CREATED:20211213T182817Z
LAST-MODIFIED:20220812T170900Z
UID:4571-1661644800-1663891199@beaverlodgegallery.com
SUMMARY:Elizabeth Hutchinson (Main Gallery) 'Reverie'  & Katherine Moe (Mini Gallery) 'Colour Your World'
DESCRIPTION:Elizabeth Hutchinson\n             'Counsel'\, 30" x 40" oil on canvas\n\n            'Surface'\, 30" x 40" oil on Canvas\n            Katherine Moe\n            'A Lily a Day'\, Acrylic on Canvas 36" x 24” \n\n            'Still Waters'\, Acrylic on Canvas 40" x 30”
URL:http://beaverlodgegallery.com/event/candace-sanderson-emily-lozeron-elizabeth-hutchinson/
LOCATION:Ab
CATEGORIES:Main Gallery
END:VEVENT
BEGIN:VEVENT
DTSTART;VALUE=DATE:20220728
DTEND;VALUE=DATE:20220825
DTSTAMP:20260423T171840
CREATED:20211213T171158Z
LAST-MODIFIED:20211213T190600Z
UID:4569-1658966400-1661385599@beaverlodgegallery.com
SUMMARY:Art Gallery of Grande Prairie - Travelling Exhibit
DESCRIPTION: In Good Company
URL:http://beaverlodgegallery.com/event/art-gallery-of-grandeprairie-travelling-exhibit/
LOCATION:Ab
CATEGORIES:Main Gallery,Mini Gallery
END:VEVENT
BEGIN:VEVENT
DTSTART;VALUE=DATE:20220724
DTEND;VALUE=DATE:20220826
DTSTAMP:20260423T171840
CREATED:20220721T184155Z
LAST-MODIFIED:20220726T030856Z
UID:4770-1658620800-1661471999@beaverlodgegallery.com
SUMMARY:Jesse Boily
DESCRIPTION:Grande Prairie area photojournalist Jesse Boily will display an assortment of photographs from the region at the Beaverlodge Art & Cultural Centre beginning July 24. \nThe exhibition captures the news stories from the City of Grande Prairie\, County of Grande Prairie\, Sexsmith\, Hythe\, Beaverlodge\, and Wembley. \nJesse Boily: One Year Back explores Jesse’s first year moving back to the Peace region as he documented the area through a photojournalistic lens. \n  \nA self portrait of Jesse Boily
URL:http://beaverlodgegallery.com/event/jesse-boily/
LOCATION:Ab
CATEGORIES:Mini Gallery
END:VEVENT
BEGIN:VEVENT
DTSTART;VALUE=DATE:20220626
DTEND;VALUE=DATE:20220722
DTSTAMP:20260423T171840
CREATED:20211213T185702Z
LAST-MODIFIED:20211213T185702Z
UID:4593-1656201600-1658447999@beaverlodgegallery.com
SUMMARY:Maria Sieben
DESCRIPTION:Paper and Mixed media painting
URL:http://beaverlodgegallery.com/event/maria-sieben/
LOCATION:Ab
CATEGORIES:Mini Gallery
ATTACH;FMTTYPE=image/jpeg:http://beaverlodgegallery.com/wp-content/uploads/2021/12/Sieben_Maria_Cropped.jpg
END:VEVENT
BEGIN:VEVENT
DTSTART;VALUE=DATE:20220529
DTEND;VALUE=DATE:20220624
DTSTAMP:20260423T171840
CREATED:20211213T170520Z
LAST-MODIFIED:20211213T170520Z
UID:4564-1653782400-1656028799@beaverlodgegallery.com
SUMMARY:Sabrina Chevallier  Photography
DESCRIPTION:Fine Art Photography Show & Sale
URL:http://beaverlodgegallery.com/event/sabrina-chevallier-%e2%80%a8photography/
LOCATION:Ab
CATEGORIES:Main Gallery
END:VEVENT
BEGIN:VEVENT
DTSTART;VALUE=DATE:20220424
DTEND;VALUE=DATE:20220527
DTSTAMP:20260423T171840
CREATED:20211213T185513Z
LAST-MODIFIED:20211213T185513Z
UID:4591-1650758400-1653609599@beaverlodgegallery.com
SUMMARY:St Mary's School
DESCRIPTION:Annual Art Student Exhibition
URL:http://beaverlodgegallery.com/event/st-marys-school/
LOCATION:Ab
CATEGORIES:Mini Gallery
END:VEVENT
BEGIN:VEVENT
DTSTART;VALUE=DATE:20220424
DTEND;VALUE=DATE:20220527
DTSTAMP:20260423T171840
CREATED:20211213T170314Z
LAST-MODIFIED:20211213T170314Z
UID:4562-1650758400-1653609599@beaverlodgegallery.com
SUMMARY:Beaverlodge High School  Art Students’ Exhibit
DESCRIPTION:
URL:http://beaverlodgegallery.com/event/beaverlodge-high-school%e2%80%a8-art-students-exhibit/
LOCATION:Ab
CATEGORIES:Main Gallery
END:VEVENT
BEGIN:VEVENT
DTSTART;VALUE=DATE:20220327
DTEND;VALUE=DATE:20220422
DTSTAMP:20260423T171840
CREATED:20211213T170142Z
LAST-MODIFIED:20211213T190744Z
UID:4559-1648339200-1650585599@beaverlodgegallery.com
SUMMARY:29th Annual Quilt Show
DESCRIPTION:
URL:http://beaverlodgegallery.com/event/29th-annual-quilt-show/
LOCATION:Ab
CATEGORIES:Main & Mini Gallery
END:VEVENT
END:VCALENDAR