BEGIN:VCALENDAR
VERSION:2.0
PRODID:-//Beaverlodge Art and Culture Centre - ECPv6.15.20//NONSGML v1.0//EN
CALSCALE:GREGORIAN
METHOD:PUBLISH
X-WR-CALNAME:Beaverlodge Art and Culture Centre
X-ORIGINAL-URL:http://beaverlodgegallery.com
X-WR-CALDESC:Events for Beaverlodge Art and Culture Centre
REFRESH-INTERVAL;VALUE=DURATION:PT1H
X-Robots-Tag:noindex
X-PUBLISHED-TTL:PT1H
BEGIN:VTIMEZONE
TZID:America/Edmonton
BEGIN:DAYLIGHT
TZOFFSETFROM:-0700
TZOFFSETTO:-0600
TZNAME:MDT
DTSTART:20180311T090000
END:DAYLIGHT
BEGIN:STANDARD
TZOFFSETFROM:-0600
TZOFFSETTO:-0700
TZNAME:MST
DTSTART:20181104T080000
END:STANDARD
BEGIN:DAYLIGHT
TZOFFSETFROM:-0700
TZOFFSETTO:-0600
TZNAME:MDT
DTSTART:20190310T090000
END:DAYLIGHT
BEGIN:STANDARD
TZOFFSETFROM:-0600
TZOFFSETTO:-0700
TZNAME:MST
DTSTART:20191103T080000
END:STANDARD
BEGIN:DAYLIGHT
TZOFFSETFROM:-0700
TZOFFSETTO:-0600
TZNAME:MDT
DTSTART:20200308T090000
END:DAYLIGHT
BEGIN:STANDARD
TZOFFSETFROM:-0600
TZOFFSETTO:-0700
TZNAME:MST
DTSTART:20201101T080000
END:STANDARD
BEGIN:DAYLIGHT
TZOFFSETFROM:-0700
TZOFFSETTO:-0600
TZNAME:MDT
DTSTART:20210314T090000
END:DAYLIGHT
BEGIN:STANDARD
TZOFFSETFROM:-0600
TZOFFSETTO:-0700
TZNAME:MST
DTSTART:20211107T080000
END:STANDARD
BEGIN:DAYLIGHT
TZOFFSETFROM:-0700
TZOFFSETTO:-0600
TZNAME:MDT
DTSTART:20220313T090000
END:DAYLIGHT
BEGIN:STANDARD
TZOFFSETFROM:-0600
TZOFFSETTO:-0700
TZNAME:MST
DTSTART:20221106T080000
END:STANDARD
BEGIN:DAYLIGHT
TZOFFSETFROM:-0700
TZOFFSETTO:-0600
TZNAME:MDT
DTSTART:20230312T090000
END:DAYLIGHT
BEGIN:STANDARD
TZOFFSETFROM:-0600
TZOFFSETTO:-0700
TZNAME:MST
DTSTART:20231105T080000
END:STANDARD
END:VTIMEZONE
BEGIN:VEVENT
DTSTART;VALUE=DATE:20220130
DTEND;VALUE=DATE:20220225
DTSTAMP:20260423T171835
CREATED:20211209T232423Z
LAST-MODIFIED:20211209T232423Z
UID:4554-1643500800-1645747199@beaverlodgegallery.com
SUMMARY:Grande Prairie Regional College Art Students
DESCRIPTION:
URL:http://beaverlodgegallery.com/event/grande-prairie-regional-college-art-students-2/
CATEGORIES:Main Gallery
END:VEVENT
BEGIN:VEVENT
DTSTART;VALUE=DATE:20220104
DTEND;VALUE=DATE:20220225
DTSTAMP:20260423T171835
CREATED:20211209T232214Z
LAST-MODIFIED:20211209T232214Z
UID:4552-1641254400-1645747199@beaverlodgegallery.com
SUMMARY:Rehoming Art Sale
DESCRIPTION:
URL:http://beaverlodgegallery.com/event/rehoming-art-sale/
CATEGORIES:Main Gallery
END:VEVENT
BEGIN:VEVENT
DTSTART;VALUE=DATE:20211128
DTEND;VALUE=DATE:20220119
DTSTAMP:20260423T171835
CREATED:20210725T172346Z
LAST-MODIFIED:20211213T190245Z
UID:4539-1638057600-1642550399@beaverlodgegallery.com
SUMMARY:Christmas Gift Show
DESCRIPTION:BACS annual Christmas gift sale
URL:http://beaverlodgegallery.com/event/christmas-gift-show/
CATEGORIES:Mini Gallery
END:VEVENT
BEGIN:VEVENT
DTSTART;VALUE=DATE:20211128
DTEND;VALUE=DATE:20211219
DTSTAMP:20260423T171835
CREATED:20210725T172154Z
LAST-MODIFIED:20210725T172154Z
UID:4537-1638057600-1639871999@beaverlodgegallery.com
SUMMARY:Print Artists North
DESCRIPTION:Print Making Exhibition and Sale
URL:http://beaverlodgegallery.com/event/print-artists-north-2/
CATEGORIES:Main Gallery
END:VEVENT
BEGIN:VEVENT
DTSTART;VALUE=DATE:20211031
DTEND;VALUE=DATE:20211126
DTSTAMP:20260423T171835
CREATED:20210725T163412Z
LAST-MODIFIED:20210725T171914Z
UID:4525-1635638400-1637884799@beaverlodgegallery.com
SUMMARY:Retrospect and Sale of Fine Studio Ceramics
DESCRIPTION:High Fire – Wood fired Anagama\, Salt and Gas Fired Ceramics\nA retrospective exhibition and sale by Bibi Clement and recent work by Lane Borstad of studio ceramics in the Japanese and British craft traditions.\n 
URL:http://beaverlodgegallery.com/event/retrospect-and-sale-of-fine-studio-pottery/
CATEGORIES:Main Gallery
END:VEVENT
BEGIN:VEVENT
DTSTART;VALUE=DATE:20210926
DTEND;VALUE=DATE:20211029
DTSTAMP:20260423T171835
CREATED:20210725T162449Z
LAST-MODIFIED:20210725T162504Z
UID:4522-1632614400-1635465599@beaverlodgegallery.com
SUMMARY:Elizabeth Hutchinson
DESCRIPTION:Multimedia Exhibition and Sale
URL:http://beaverlodgegallery.com/event/elizabeth-hutchinson-2/
END:VEVENT
BEGIN:VEVENT
DTSTART;VALUE=DATE:20210829
DTEND;VALUE=DATE:20210924
DTSTAMP:20260423T171835
CREATED:20210725T160453Z
LAST-MODIFIED:20210725T160453Z
UID:4518-1630195200-1632441599@beaverlodgegallery.com
SUMMARY:An Artistic Tour of Newfoundland
DESCRIPTION:Paintings by Suzanne Sandboe
URL:http://beaverlodgegallery.com/event/an-artistic-tour-of-newfoundland/
CATEGORIES:Main Gallery
END:VEVENT
BEGIN:VEVENT
DTSTART;VALUE=DATE:20210725
DTEND;VALUE=DATE:20210827
DTSTAMP:20260423T171835
CREATED:20210725T160322Z
LAST-MODIFIED:20210725T160322Z
UID:4516-1627171200-1630022399@beaverlodgegallery.com
SUMMARY:African Photography
DESCRIPTION:Kaitlyn Bull \nExhibition and Sale
URL:http://beaverlodgegallery.com/event/african-photography/
CATEGORIES:Main Gallery
END:VEVENT
BEGIN:VEVENT
DTSTART;VALUE=DATE:20210627
DTEND;VALUE=DATE:20210723
DTSTAMP:20260423T171835
CREATED:20210725T160129Z
LAST-MODIFIED:20210725T160129Z
UID:4514-1624752000-1626998399@beaverlodgegallery.com
SUMMARY:The Domino Seeker's Journey
DESCRIPTION:Exhibition by Carmen Haakstad
URL:http://beaverlodgegallery.com/event/the-domino-seekers-journey/
CATEGORIES:Main Gallery
END:VEVENT
BEGIN:VEVENT
DTSTART;VALUE=DATE:20201129
DTEND;VALUE=DATE:20201220
DTSTAMP:20260423T171835
CREATED:20200209T184811Z
LAST-MODIFIED:20200829T152533Z
UID:2944-1606608000-1608422399@beaverlodgegallery.com
SUMMARY:BACS Christmas Gift Gallery
DESCRIPTION:Annual show and sale of Christmas gifts.
URL:http://beaverlodgegallery.com/event/bacs-christmas-gift-gallery-3/
CATEGORIES:Mini Gallery
END:VEVENT
BEGIN:VEVENT
DTSTART;VALUE=DATE:20201129
DTEND;VALUE=DATE:20201220
DTSTAMP:20260423T171835
CREATED:20200209T184154Z
LAST-MODIFIED:20200829T152444Z
UID:2934-1606608000-1608422399@beaverlodgegallery.com
SUMMARY:Peace River Federation of Canadian Artists
DESCRIPTION:Multimedia Show and Sale
URL:http://beaverlodgegallery.com/event/peace-river-federation-of-canadian-artists/
CATEGORIES:Main Gallery
END:VEVENT
BEGIN:VEVENT
DTSTART;VALUE=DATE:20201103
DTEND;VALUE=DATE:20201122
DTSTAMP:20260423T171835
CREATED:20201103T225201Z
LAST-MODIFIED:20201103T230904Z
UID:4108-1604361600-1606003199@beaverlodgegallery.com
SUMMARY:Crystal Mysko - This is Just the Beginning
DESCRIPTION:I am a mom\, wife\, and teacher. I live on an acreage outside of Grande Prairie with my husband and four year old son. I grew up on a cattle and crop farm in Woking with my parents and two sisters and have taught at Beaverlodge Elementary School for many years.\nPainting and drawing have always been a hobby of mine. I would take a few classes here and there through YouTube\, and doodle on my own. It is only in the last 11⁄2 years or so that I’ve taken painting more seriously and have dedicated time to my hobby weekly.\nMany of my lessons have come from local teachers/artists like Janet Enfield and Dan Arberry. I am also influenced by abstract pop-artists: Thomas Fedro\, Fabio Napoleoni\, and Romero Britto. I love using bold\, intense colors.\nThis opportunity came up while attending another artist’s exhibit here at the Beaverlodge Cultural Center. This is my first Art show ever! It will also be my son’s first! Being a mom\, I couldn’t help but share this opportunity with my boy. While this is stepping out of my comfort zone a little\, I am very thankful for the opportunity. And hopefully – this is the beginning of a new chapter in my painting career. \nExhibition Open Now
URL:http://beaverlodgegallery.com/event/crystal-mysko-this-is-just-the-beginning/
CATEGORIES:Main Gallery
ATTACH;FMTTYPE=image/jpeg:http://beaverlodgegallery.com/wp-content/uploads/2020/10/Crystal-Mysko-with-Hazel.jpg
END:VEVENT
BEGIN:VEVENT
DTSTART;VALUE=DATE:20201101
DTEND;VALUE=DATE:20201127
DTSTAMP:20260423T171835
CREATED:20200829T152354Z
LAST-MODIFIED:20200829T152354Z
UID:3930-1604188800-1606435199@beaverlodgegallery.com
SUMMARY:Crystal Mysko  - Animal/People Acrylic Portraits
DESCRIPTION:
URL:http://beaverlodgegallery.com/event/crystal-mysko%e2%80%a8-animal-people-acrylic-portraits/
END:VEVENT
BEGIN:VEVENT
DTSTART;VALUE=DATE:20201004
DTEND;VALUE=DATE:20201030
DTSTAMP:20260423T171835
CREATED:20200829T152222Z
LAST-MODIFIED:20200829T152222Z
UID:3928-1601769600-1604015999@beaverlodgegallery.com
SUMMARY:Multi-Media Art Show & Sale
DESCRIPTION:Multiple Artists
URL:http://beaverlodgegallery.com/event/multi-media-art-show-sale/
CATEGORIES:Main Gallery
END:VEVENT
BEGIN:VEVENT
DTSTART;VALUE=DATE:20200905
DTEND;VALUE=DATE:20201002
DTSTAMP:20260423T171835
CREATED:20200829T152123Z
LAST-MODIFIED:20200904T214223Z
UID:3926-1599264000-1601596799@beaverlodgegallery.com
SUMMARY:Lenses in the Light of Dark Times
DESCRIPTION:Multi Artist Photography Exhibit and Sale. Lenses in Light of Dark Times is an uplifting and inspiring collection of fine photographs by regional photographers
URL:http://beaverlodgegallery.com/event/lenses-in-the-light-of-dark-times/
CATEGORIES:Main Gallery
END:VEVENT
BEGIN:VEVENT
DTSTART;VALUE=DATE:20200802
DTEND;VALUE=DATE:20200904
DTSTAMP:20260423T171835
CREATED:20200829T152012Z
LAST-MODIFIED:20200829T152012Z
UID:3924-1596326400-1599177599@beaverlodgegallery.com
SUMMARY:Cheryl Brown - Pottery and Lampwork Jewelry
DESCRIPTION:
URL:http://beaverlodgegallery.com/event/cheryl-brown-pottery-and-lampwork-jewelry/
CATEGORIES:Main Gallery
END:VEVENT
BEGIN:VEVENT
DTSTART;VALUE=DATE:20200628
DTEND;VALUE=DATE:20200724
DTSTAMP:20260423T171835
CREATED:20200209T183706Z
LAST-MODIFIED:20200209T183706Z
UID:2926-1593302400-1595548799@beaverlodgegallery.com
SUMMARY:Mickey Death Paintings
DESCRIPTION:Show and Sale of Acrylic paintings
URL:http://beaverlodgegallery.com/event/mickey-death-paintings/
CATEGORIES:Main Gallery
END:VEVENT
BEGIN:VEVENT
DTSTART;VALUE=DATE:20200531
DTEND;VALUE=DATE:20200626
DTSTAMP:20260423T171835
CREATED:20200209T170234Z
LAST-MODIFIED:20200209T170234Z
UID:2908-1590883200-1593129599@beaverlodgegallery.com
SUMMARY:Grande Prairie Photography Club
DESCRIPTION:Show and Sale of Photography
URL:http://beaverlodgegallery.com/event/grande-prairie-photography-club-2/
CATEGORIES:Main Gallery
END:VEVENT
BEGIN:VEVENT
DTSTART;VALUE=DATE:20200531
DTEND;VALUE=DATE:20200626
DTSTAMP:20260423T171835
CREATED:20200209T170334Z
LAST-MODIFIED:20200209T170334Z
UID:2911-1590883200-1593129599@beaverlodgegallery.com
SUMMARY:4-H Photography Club
DESCRIPTION:Show and sale of Photographs
URL:http://beaverlodgegallery.com/event/4-h-photography-club-2/
CATEGORIES:Mini Gallery
END:VEVENT
BEGIN:VEVENT
DTSTART;VALUE=DATE:20200426
DTEND;VALUE=DATE:20200529
DTSTAMP:20260423T171835
CREATED:20200209T165958Z
LAST-MODIFIED:20200209T165958Z
UID:2906-1587859200-1590710399@beaverlodgegallery.com
SUMMARY:Elke Kieswetter
DESCRIPTION:Acrylic and Watercolour show and sale
URL:http://beaverlodgegallery.com/event/elke-kieswetter/
CATEGORIES:Mini Gallery
END:VEVENT
BEGIN:VEVENT
DTSTART;VALUE=DATE:20200426
DTEND;VALUE=DATE:20200529
DTSTAMP:20260423T171835
CREATED:20200209T165814Z
LAST-MODIFIED:20200209T165814Z
UID:2903-1587859200-1590710399@beaverlodgegallery.com
SUMMARY:BRHS & St. Mary's School
DESCRIPTION:Annual Art Students Show
URL:http://beaverlodgegallery.com/event/brhs-st-marys-school/
CATEGORIES:Main Gallery
END:VEVENT
BEGIN:VEVENT
DTSTART;VALUE=DATE:20200329
DTEND;VALUE=DATE:20200424
DTSTAMP:20260423T171835
CREATED:20200209T165642Z
LAST-MODIFIED:20200209T165642Z
UID:2901-1585440000-1587686399@beaverlodgegallery.com
SUMMARY:27th Annual Quilt Show
DESCRIPTION:
URL:http://beaverlodgegallery.com/event/27th-annual-quilt-show/
CATEGORIES:Main & Mini Gallery,Main Gallery,Mini Gallery
END:VEVENT
BEGIN:VEVENT
DTSTART;TZID=America/Edmonton:20200301T140000
DTEND;TZID=America/Edmonton:20200301T163000
DTSTAMP:20260423T171835
CREATED:20200209T191512Z
LAST-MODIFIED:20200209T191757Z
UID:2951-1583071200-1583080200@beaverlodgegallery.com
SUMMARY:Gallery Exhibition Opening
DESCRIPTION:Beaverlodge Art Society
URL:http://beaverlodgegallery.com/event/gallery-opening/
LOCATION:Art and Culture Centre\, 512 – 5th Avenue Box 569\, Beaverlodge\, Ab\, T0H 0C0\, Canada
CATEGORIES:Main Gallery,Mini Gallery
END:VEVENT
BEGIN:VEVENT
DTSTART;VALUE=DATE:20200301
DTEND;VALUE=DATE:20200327
DTSTAMP:20260423T171835
CREATED:20200209T165544Z
LAST-MODIFIED:20200209T165544Z
UID:2899-1583020800-1585267199@beaverlodgegallery.com
SUMMARY:Josh Bourget
DESCRIPTION:Skies – Photography show and sale
URL:http://beaverlodgegallery.com/event/josh-bourget/
CATEGORIES:Mini Gallery
END:VEVENT
BEGIN:VEVENT
DTSTART;VALUE=DATE:20200301
DTEND;VALUE=DATE:20200327
DTSTAMP:20260423T171835
CREATED:20200209T165427Z
LAST-MODIFIED:20200211T173842Z
UID:2897-1583020800-1585267199@beaverlodgegallery.com
SUMMARY:Miniature Show - Beaverlodge Art Society
DESCRIPTION:28th Annual Miniature Show and Sale
URL:http://beaverlodgegallery.com/event/beaverlodge-art-society-4/
CATEGORIES:Main Gallery
END:VEVENT
BEGIN:VEVENT
DTSTART;VALUE=DATE:20200202
DTEND;VALUE=DATE:20200228
DTSTAMP:20260423T171835
CREATED:20200209T165306Z
LAST-MODIFIED:20200209T173125Z
UID:2893-1580601600-1582847999@beaverlodgegallery.com
SUMMARY:Leah Penner
DESCRIPTION:Show and Sale of Acrylic paintings
URL:http://beaverlodgegallery.com/event/leah-penner/
CATEGORIES:Mini Gallery
ATTACH;FMTTYPE=image/jpeg:http://beaverlodgegallery.com/wp-content/uploads/2020/02/84854180_10157935079392692_113819283338821632_n.jpg
END:VEVENT
BEGIN:VEVENT
DTSTART;VALUE=DATE:20200202
DTEND;VALUE=DATE:20200228
DTSTAMP:20260423T171835
CREATED:20200209T165145Z
LAST-MODIFIED:20200209T173754Z
UID:2891-1580601600-1582847999@beaverlodgegallery.com
SUMMARY:GPRC Art Students
DESCRIPTION:
URL:http://beaverlodgegallery.com/event/gprc-art-students/
CATEGORIES:Main Gallery
ATTACH;FMTTYPE=image/jpeg:http://beaverlodgegallery.com/wp-content/uploads/2020/02/85026393_10157935080877692_6609601411778871296_n.jpg
END:VEVENT
BEGIN:VEVENT
DTSTART;VALUE=DATE:20200105
DTEND;VALUE=DATE:20200131
DTSTAMP:20260423T171835
CREATED:20200209T172543Z
LAST-MODIFIED:20200209T173026Z
UID:2921-1578182400-1580428799@beaverlodgegallery.com
SUMMARY:6th Annual "Re-homing"
DESCRIPTION:Show and sale of previously loved art works
URL:http://beaverlodgegallery.com/event/6th-annual-re-homing/
CATEGORIES:Mini Gallery
END:VEVENT
BEGIN:VEVENT
DTSTART;VALUE=DATE:20200105
DTEND;VALUE=DATE:20200131
DTSTAMP:20260423T171835
CREATED:20200209T171111Z
LAST-MODIFIED:20200209T172423Z
UID:2916-1578182400-1580428799@beaverlodgegallery.com
SUMMARY:Faces: Portraits from a private collection
DESCRIPTION:Selections from a local collectors wide ranging paintings with a focus on portraits and and the human figure.\nIncluded in this amazing collection are works by Matisse\, Botterro\, Frida Kahlo and others.
URL:http://beaverlodgegallery.com/event/2916/
CATEGORIES:Main Gallery
ATTACH;FMTTYPE=image/png:http://beaverlodgegallery.com/wp-content/uploads/2020/02/IMG_7005.png
END:VEVENT
BEGIN:VEVENT
DTSTART;VALUE=DATE:20191124
DTEND;VALUE=DATE:20191220
DTSTAMP:20260423T171835
CREATED:20181106T221155Z
LAST-MODIFIED:20181106T221155Z
UID:1062-1574553600-1576799999@beaverlodgegallery.com
SUMMARY:BACS Christmas Gift Gallery  Sale
DESCRIPTION:Annual Christmas Gift  Sale
URL:http://beaverlodgegallery.com/event/bacs-christmas-gift-gallery-%e2%80%a8sale/
CATEGORIES:Mini Gallery
END:VEVENT
END:VCALENDAR